BEGIN:VCALENDAR
VERSION:2.0
PRODID:-//ChamberMaster//Event Calendar 2.0//EN
METHOD:PUBLISH
X-PUBLISHED-TTL:P3D
REFRESH-INTERVAL:P3D
CALSCALE:GREGORIAN
BEGIN:VEVENT
DTSTART:20240207T190000Z
DTEND:20240207T200000Z
X-MICROSOFT-CDO-ALLDAYEVENT:FALSE
SUMMARY:Young Professionals Committee Meeting
DESCRIPTION:Come join us for our Young Professionals Committee Meeting! \n\n\n\nYoung Professionals Committee   Zach Gordon\, Vibe Homes\, Chair   (1st Wed of every month)\n\nThis committee focuses on the engagement\, and recruitment of Builders\, Associate\, and Affiliate members under the age of 45.  We focus on helping meet the needs of younger members\, such as developing new services that would be beneficial to the organization in serving the needs of the young professional members.  To enhance and develop the member experience as it relates to younger members.  To generate insight on current programming including mentoring\, leadership training and entrepreneurial and general education of emerging industry professionals.
X-ALT-DESC;FMTTYPE=text/html:<span style="font-size:16px\;"><span style="font-family:times new roman\;"><strong>Come join us for our Young Professionals Committee Meeting!&nbsp\;</strong></span></span><br />\n<br />\n<strong><u><span style="font-family:book antiqua\,serif\;">Young Professionals Committee &ndash\;</span></u></strong> <em><span style="font-family:book antiqua\,serif\;"><span style="font-size:11.0pt\;">Zach Gordon\, Vibe Homes\, Chair</span></span></em><span style="font-family:book antiqua\,serif\;"><span style="font-size:11.0pt\;"> &nbsp\;&nbsp\;<strong>(1<sup>st</sup> Wed of every month)</strong></span></span><br />\n<span style="font-family:book antiqua\,serif\;">This committee focuses on the engagement\, and recruitment of Builders\, Associate\, and Affiliate members under the age of 45.&nbsp\; We focus on helping meet the needs of younger members\, such as developing new services that would be beneficial to the organization in serving the needs of the young professional members.&nbsp\; To enhance and develop the member experience as it relates to younger members.&nbsp\; To generate insight on current programming including mentoring\, leadership training and entrepreneurial and general education of emerging industry professionals.&nbsp\;</span><br />\n&nbsp\;
LOCATION:Salt Lake Home Builders Association 230 W Towne Ridge Pkwy Suite #250 Sandy\, UT 84070
UID:e.9412.1841
SEQUENCE:3
DTSTAMP:20260422T142121Z
URL:http://members.saltlakeparade.com/events/details/young-professionals-committee-meeting-02-07-2024-1841
END:VEVENT

END:VCALENDAR
