BEGIN:VCALENDAR
VERSION:2.0
PRODID:-//ChamberMaster//Event Calendar 2.0//EN
METHOD:PUBLISH
X-PUBLISHED-TTL:P3D
REFRESH-INTERVAL:P3D
CALSCALE:GREGORIAN
BEGIN:VEVENT
DTSTART:20250416T150000Z
DTEND:20250416T163000Z
X-MICROSOFT-CDO-ALLDAYEVENT:FALSE
SUMMARY:Utah Legislative Update - Builders Only
DESCRIPTION:Join us for an exclusive Builders-Only event featuring industry leaders Ross Ford\, Utah HBA Executive Officer\, and Taz Biesinger\, Utah HBA Lobbyist! We'll explore the latest legislative updates impacting the building industry and discuss how these changes will affect you!\n\nThis event offers a unique opportunity to gain valuable insights from experts\, stay informed about important developments\, and network with fellow builders. Don't miss out on this chance to engage in meaningful discussions and stay ahead in the industry. We look forward to seeing you there!\n\n\nBuilders.... RSVP now to secure your seat!
X-ALT-DESC;FMTTYPE=text/html:<p background-color:="" font-size:="" helvetica="" segoe="" style="margin: 0px 0px 1em\; overflow-wrap: break-word\; color: rgb(36\, 36\, 36)\; font-family: " ui="" web="" west="">Join us for an exclusive Builders-Only event featuring industry leaders Ross Ford\, <a href="https://hbautah.com/" target="_blank">Utah HBA</a> Executive Officer\,&nbsp\;and Taz Biesinger\, Utah HBA Lobbyist! We&#39\;ll explore the latest legislative updates impacting the building industry and discuss how these changes will affect you!</p>\n\n<p background-color:="" font-size:="" helvetica="" segoe="" style="margin: 0px\; overflow-wrap: break-word\; color: rgb(36\, 36\, 36)\; font-family: " ui="" web="" west="">This event offers a unique opportunity to gain valuable insights from experts\, stay informed about important developments\, and network with fellow builders. Don&#39\;t miss out on this chance to engage in meaningful discussions and stay ahead in the industry. We look forward to seeing you there!</p>\n<br />\n<span style="font-size:20px\;"><strong data-end="491" data-is-last-node="" data-start="458">Builders.... RSVP now to secure your seat!</strong></span><br />\n&nbsp\;
LOCATION:
UID:e.9412.3801
SEQUENCE:3
DTSTAMP:20260423T120420Z
URL:http://members.saltlakeparade.com/events/details/utah-legislative-update-builders-only-3801
END:VEVENT

END:VCALENDAR
