BEGIN:VCALENDAR
VERSION:2.0
PRODID:-//ChamberMaster//Event Calendar 2.0//EN
METHOD:PUBLISH
X-PUBLISHED-TTL:P3D
REFRESH-INTERVAL:P3D
CALSCALE:GREGORIAN
BEGIN:VEVENT
DTSTART:20250110T010000Z
DTEND:20250110T030000Z
X-MICROSOFT-CDO-ALLDAYEVENT:FALSE
SUMMARY:Utah HBA Denim and Diamonds Inaugural Gala
DESCRIPTION:2025 Utah HBA Denim and Diamonds Inaugural Gala\n\nHelp us welcome the 2025 Utah HBA leadership and thank the outgoing leadership at this event.\n\nAttire: business casual\, from denim to diamonds!\n\nRegister at: Denim & Diamonds - Utah Home Builders Association or https://hbautah.com/denim-diamonds
X-ALT-DESC;FMTTYPE=text/html:<p><strong>2025 Utah HBA Denim and Diamonds Inaugural Gala</strong><br />\nHelp us welcome the 2025 Utah HBA leadership and thank the outgoing leadership at this event.</p>\n\n<p>Attire: business casual\, from denim to diamonds!</p>\n\n<p>Register at:&nbsp\;<a href="https://hbautah.com/denim-diamonds/">Denim &amp\; Diamonds - Utah Home Builders Association</a>&nbsp\;or https://hbautah.com/denim-diamonds</p>\n
LOCATION:Thanksgiving Point\, The Garden Room\, 3900 N Garden Drive\, Lehi\, UT
UID:e.9412.3781
SEQUENCE:3
DTSTAMP:20260423T074120Z
URL:http://members.saltlakeparade.com/events/details/utah-hba-denim-and-diamonds-inaugural-gala-3781
END:VEVENT

END:VCALENDAR
