BEGIN:VCALENDAR
VERSION:2.0
PRODID:-//ChamberMaster//Event Calendar 2.0//EN
METHOD:PUBLISH
X-PUBLISHED-TTL:P3D
REFRESH-INTERVAL:P3D
CALSCALE:GREGORIAN
BEGIN:VEVENT
DTSTART:20240508T150000Z
DTEND:20240508T190000Z
X-MICROSOFT-CDO-ALLDAYEVENT:FALSE
SUMMARY:Trap Shoot 2024
DESCRIPTION:5 person team - $400 | Trap Lane Sponsor - $300 \n	Come join us for a day of shooting\, lunch\, prizes\, and networking!\n	Must bring your own gun\, ammo\, eye & ear protection*\n	Please register by emailing eden@slhba.com
X-ALT-DESC;FMTTYPE=text/html:<ul style="margin-bottom: 0in\; color: rgb(32\, 31\, 30)\; font-family: &quot\;Segoe UI&quot\;\, &quot\;Segoe UI Web (West European)&quot\;\, &quot\;Segoe UI&quot\;\, -apple-system\, BlinkMacSystemFont\, Roboto\, &quot\;Helvetica Neue&quot\;\, sans-serif\; font-size: 15px\; margin-top: 0in\;" type="disc">\n	<li class="x_MsoListParagraph" style="margin: 0in\; font-size: 11pt\; font-family: Calibri\, sans-serif\;"><b><span style="margin: 0px\; padding: 0px\; border: 0px\; font-style: inherit\; font-variant: inherit\; font-weight: inherit\; font-stretch: inherit\; font-size: 12pt\; line-height: inherit\; font-family: inherit\; vertical-align: baseline\; color: inherit\;">5 person team - $400</span></b><b><span style="margin: 0px\; padding: 0px\; border: 0px\; font-style: inherit\; font-variant: inherit\; font-weight: inherit\; font-stretch: inherit\; font-size: 12pt\; line-height: inherit\; font-family: inherit\; vertical-align: baseline\; color: inherit\;">&nbsp\;| Trap Lane Sponsor - $300&nbsp\;</span></b></li>\n	<li class="x_MsoListParagraph" style="margin: 0in\; font-size: 11pt\; font-family: Calibri\, sans-serif\;"><span style="margin: 0px\; padding: 0px\; border: 0px\; font-style: inherit\; font-variant: inherit\; font-weight: inherit\; font-stretch: inherit\; font-size: 12pt\; line-height: inherit\; font-family: inherit\; vertical-align: baseline\; color: inherit\;">Come join us for a day of shooting\, lunch\, prizes\, and networking!</span></li>\n	<li class="x_MsoListParagraph" style="margin: 0in\; font-size: 11pt\; font-family: Calibri\, sans-serif\;"><span style="margin: 0px\; padding: 0px\; border: 0px\; font-style: inherit\; font-variant: inherit\; font-weight: inherit\; font-stretch: inherit\; font-size: 12pt\; line-height: inherit\; font-family: inherit\; vertical-align: baseline\; color: inherit\;"><b>Must bring your own gun\, ammo\, eye &amp\; ear protection</b>*</span></li>\n	<li class="x_MsoListParagraph" style="margin: 0in\; font-size: 11pt\; font-family: Calibri\, sans-serif\;"><b><span style="margin: 0px\; padding: 0px\; border: 0px\; font-style: inherit\; font-variant: inherit\; font-weight: inherit\; font-stretch: inherit\; font-size: 12pt\; line-height: inherit\; font-family: inherit\; vertical-align: baseline\; color: inherit\;">Please register by emailing </span><span style="margin: 0px\; padding: 0px\; border: 0px\; font-style: inherit\; font-variant: inherit\; font-weight: inherit\; font-stretch: inherit\; font-size: 12pt\; line-height: inherit\; vertical-align: baseline\; color: inherit\;">eden<a data-auth="NotApplicable" data-linkindex="1" href="mailto:Lindie@slhba.com" rel="noopener noreferrer" style="margin: 0px\; padding: 0px\; border: 0px\; font: inherit\; vertical-align: baseline\; color: rgb(5\, 99\, 193)\;" target="_blank">@slhba.com</a></span></b></li>\n</ul>\n
LOCATION:Wasatch Wing & Clay | 8002 N 16800 W\, Cedar Fort\, UT 84013
UID:e.9412.2011
SEQUENCE:3
DTSTAMP:20260422T192801Z
URL:http://members.saltlakeparade.com/events/details/trap-shoot-2024-2011
END:VEVENT

END:VCALENDAR
