BEGIN:VCALENDAR
VERSION:2.0
PRODID:-//ChamberMaster//Event Calendar 2.0//EN
METHOD:PUBLISH
X-PUBLISHED-TTL:P3D
REFRESH-INTERVAL:P3D
CALSCALE:GREGORIAN
BEGIN:VEVENT
DTSTART:20250125T170000Z
DTEND:20250126T010000Z
X-MICROSOFT-CDO-ALLDAYEVENT:FALSE
SUMMARY:Terraine Opening Camp Featuring Sego Homes!
DESCRIPTION:Hey all you early birds and trailblazers! The Shed   our cafe and outfitter   is opening on January 25th 2025\, and a handful of the models will be open for initial peeks. If you don't mind a bit of dust\, join us at Opening Camp to be our very first visitors.\n\nThe adventure begins.\n\nExplore The Shed\n\nCamp starts here in our cozy cafe & outfitter\, complete with a roaring fire\, warm drinks\, and cool merch.\n\nGather 'round the builder campfires\n\nHear from Terraine homebuilders and be the first to set foot in 5 one-of-a-kind model homes.\n\nGet the lay of the land\n\nOur Terraine guides will map out the community plan and a lifestyle centered around the great outdoors.\n\n\n\nStep up to a new way of living\n\nDiscover an innovative approach to community design. That's the pioneering spirit!\n\n\n\nRSVP Here! \n\nhttps://www.eventcreate.com/e/terraineopeningcamp
X-ALT-DESC;FMTTYPE=text/html:<p>Hey all you early birds and trailblazers!&nbsp\;The Shed&nbsp\;&ndash\; our cafe and outfitter &ndash\;&nbsp\;<span style="color:var( --e-global-color-text )\; font-family:var( --e-global-typography-text-font-family )\,sans-serif">is opening on January 25th 2025\, and a handful of the models will be open for initial peeks. If you don&rsquo\;t mind a bit of dust\, join us at Opening Camp to be our very first visitors.</span></p>\n\n<p>The adventure begins.<br />\nExplore The Shed</p>\n\n<p>Camp starts here in our cozy cafe &amp\; outfitter\, complete with a roaring fire\, warm drinks\, and cool merch.</p>\n\n<p>Gather &rsquo\;round the builder campfires<br />\nHear from Terraine homebuilders and be the first to set foot in 5 one-of-a-kind model homes.</p>\n\n<p>Get the lay of the land<br />\nOur Terraine guides will map out the community plan and a lifestyle centered around the great outdoors.<br />\n<br />\nStep up to a new way of living</p>\n\n<p>Discover an innovative approach to community design. That&rsquo\;s the pioneering spirit!<br />\n<br />\nRSVP Here!&nbsp\;<br />\n<a href="https://www.eventcreate.com/e/terraineopeningcamp">https://www.eventcreate.com/e/terraineopeningcamp</a><a href="https://www.eventcreate.com/e/terraineopeningcamp" name="RSVP" target="_blank">&nbsp\;</a></p>\n
LOCATION:7188 W Hidden Hills Way\, West Jordan
UID:e.9412.3785
SEQUENCE:3
DTSTAMP:20260423T091300Z
URL:http://members.saltlakeparade.com/events/details/terraine-opening-camp-featuring-sego-homes-3785
END:VEVENT

END:VCALENDAR
