BEGIN:VCALENDAR
VERSION:2.0
PRODID:-//ChamberMaster//Event Calendar 2.0//EN
METHOD:PUBLISH
X-PUBLISHED-TTL:P3D
REFRESH-INTERVAL:P3D
CALSCALE:GREGORIAN
BEGIN:VEVENT
DTSTART:20250106T190000Z
DTEND:20250106T200000Z
X-MICROSOFT-CDO-ALLDAYEVENT:FALSE
SUMMARY:SLHBA Government Affairs Committee
DESCRIPTION:Government Affairs Committee - Sean Steinman\, Chair\n\n\n\nThis committee gathers and distributes information about\, and assists with\, regulatory and legislative issues at the county and municipal levels that affect Association members. Activities may include contacting elected and appointed officials\, lobbying\, and testifying at meetings.
X-ALT-DESC;FMTTYPE=text/html:<span style="font-size:14px\;"><span style="font-family:arial\;"><strong><u>Government Affairs Committee</u></strong> - <em>Sean Steinman</em>\, Chair</span></span><br />\n<br />\n<span style="font-family: arial\; font-size: 14px\;">This committee gathers and distributes information about\, and assists with\, regulatory and legislative issues at the county and municipal levels that affect Association members. Activities may include contacting elected and appointed officials\, lobbying\, and testifying at meetings.</span>
LOCATION:Salt Lake Home Builders Association 230 W Towne Ridge Pkwy\, Ste 250 Sandy\, UT 84070
UID:e.9412.3758
SEQUENCE:3
DTSTAMP:20260423T074112Z
URL:http://members.saltlakeparade.com/events/details/slhba-government-affairs-committee-3758
END:VEVENT

END:VCALENDAR
