BEGIN:VCALENDAR
VERSION:2.0
PRODID:-//ChamberMaster//Event Calendar 2.0//EN
METHOD:PUBLISH
X-PUBLISHED-TTL:P3D
REFRESH-INTERVAL:P3D
CALSCALE:GREGORIAN
BEGIN:VEVENT
DTSTART:20241023T190000Z
DTEND:20241023T230000Z
X-MICROSOFT-CDO-ALLDAYEVENT:FALSE
SUMMARY:SLHBA Board Retreat 2024
DESCRIPTION:The 2025 SLHBA Board of Directors Retreat is an event designed for all incoming board members. This retreat will provide an opportunity to get acquainted with fellow board members\, discuss key responsibilities and roles\, and plan for next year and future years.
X-ALT-DESC;FMTTYPE=text/html:The 2025 SLHBA Board of Directors Retreat is an event designed for all incoming board members. This retreat will provide an opportunity to get acquainted with fellow board members\, discuss key responsibilities and roles\, and plan for next year and future years.
LOCATION:SLHBA\, 230 W Towne Ridge Pkwy. Ste. 250\, Sandy\, UT 84070
UID:e.9412.3390
SEQUENCE:3
DTSTAMP:20260423T042319Z
URL:http://members.saltlakeparade.com/events/details/slhba-board-retreat-2024-3390
END:VEVENT

END:VCALENDAR
