BEGIN:VCALENDAR
VERSION:2.0
PRODID:-//ChamberMaster//Event Calendar 2.0//EN
METHOD:PUBLISH
X-PUBLISHED-TTL:P3D
REFRESH-INTERVAL:P3D
CALSCALE:GREGORIAN
BEGIN:VEVENT
DTSTART;VALUE=DATE:20260731
DTEND;VALUE=DATE:20260816
TRANSP:TRANSPARENT
X-MICROSOFT-CDO-ALLDAYEVENT:TRUE
SUMMARY:Salt Lake Parade of Homes | 80th Anniversary | Garage Exhibitor Booths
DESCRIPTION:The 2026 Salt Lake Parade of Homes is celebrating its 80th Anniversary with an unforgettable showcase running July 31 August 15. As the nation's very first Parade of Homes\, launched in 1946\, this milestone year promises to be one of our most spectacular yet\, featuring 27 extraordinary homes across Salt Lake County and Tooele County\, including a remarkable remodel you won't want to miss.\n\n\n\nA Historic Showcase\n\nSince 1946\, the Salt Lake Parade of Homes\, proudly presented by the Salt Lake Home Builders Association\, has inspired homeowners\, designers\, and dreamers with fresh ideas\, innovative craftsmanship\, and breathtaking design. This year's anniversary edition continues that legacy with a standout collection of homes ranging from 2\,100 to over 15\,000 square feet each showcasing the brilliance of Utah's top builders.\n\n\n\n\n\nWhat You'll See\n\nOur builders are bringing unmatched creativity\, craftsmanship\, and character to this year's Parade:\n\n\n	\n	Luxury Custom Homes - Explore Salt Lake County's finest custom builds\, complete with high-end finishes\, smart home technology\, elevated outdoor living\, and meticulous architectural detail.\n	\n	\n	Tooele County Showstoppers - Four impressive homes by Heritage Homes\, GTM Builders\, Eagle Point Homes\, and J Thomas Homes offer unexpected design moments and scenic settings - proof that the drive is absolutely worth it.\n	\n	\n	A Stunning Whole-Home Remodel - Citizen Builders' featured remodel highlights the power of thoughtful transformation - guaranteed to spark ideas for your own home.\n	\n	\n	Walkable Communities - Discover several neighborhoods featuring multiple Parade homes\, giving you the chance to stroll easily from one stunning home to the next.\n	\n\n\n \n\nWhy Attend?\n\nThe 80th Anniversary Parade is more than a home tour it's a celebration of design\, innovation\, and Utah tradition.\n\n\n	\n	Endless Inspiration: Gather ideas for your next project\, from floor plans to finishes.\n	\n	\n	Meet the Builders: Connect with industry-leading professionals ready to bring your vision to life.\n	\n	\n	Celebrate Community: Join thousands in a beloved tradition that's been shaping Utah living since 1946.\n	\n\n\nTickets & Details\n\n\n	\n	Tickets will be available at SaltLakeParade.com or via our free mobile app\, featuring maps and a "plan my day" tool. The Parade runs daily from 12 to 9 PM (closed Sundays and Mondays).\n	\n\n\n\nGarage Exhibitor Booths\n\n\n	Garage Exhibitor Booths are available in select homes for the duration of the Parade.\n	 Booths are 10'x'10' and priced at $600. \n	A limited number of booth are available in the following Parade homes:\n	\n		\n		Concord Homes\n		\n		\n		Destination Homes\n		\n		\n		Elevation Homes\n		\n		\n		GTM Builders\n		\n		\n		High Country Homes & Development Inc\n		\n		\n		Ivory Homes\n		\n		\n		J Lyne Roberts & Sons\n		\n		\n		Panden Construction\n		\n		\n		Wright Homes\n		\n	\n	\n	\n	To purchase a booth\, please register by loging in to your member portal.\n	\n\n\n\n\n\nThank You\, Builders!\n\nTo the exceptional builders participating in this landmark year: thank you.\n\nYour passion\, creativity\, and commitment to excellence shine in every home from Tooele's innovative designs to Salt Lake's custom masterpieces and the transformative remodel. Your work enriches our communities\, inspires countless homeowners\, and continues the legacy of the Salt Lake Parade of Homes.\n\n\n\nHere's to making the 80th Anniversary a Parade to remember and to building the future\, one extraordinary home at a time.\n\n2026 Participating Builders\n\nButterfield Construction\n\nCitizen Builders\n\nCity Point Homes\n\nConcord Homes\n\nDestination Homes\n\nE Builders\n\nEagle Point Homes\n\nElevation Homes\n\nGTM Builders\n\nHeritage Homes\n\nHigh Country Homes & Development Inc\n\nHolmes Homes\n\nIvory Homes\n\nJ Lyne Roberts & Sons\n\nJ Thomas Homes\n\nNarwhal Homes\n\nNuStar\n\nPanden Construction\n\nSego Homes\n\nSymphony Homes\n\nT.A. Kirton Custom Homes\n\nTri Pointe Homes\n\nVibe Homes & Company LLC\n\nWright Homes\n\n369 Homes\n\n\n\nWant to see who else is a member of the Salt Lake Home Builders Association? Check out our online directory.\n\n\n\nJoin us July 31 - August 15 to celebrate 81 years of building brilliance. Download the app\, grab your tickets\, and prepare to be amazed by the 2026 Salt Lake Parade of Homes!
X-ALT-DESC;FMTTYPE=text/html:<div style="box-sizing: border-box\; margin: 0px 0px 1rem\; font-size: 16px\; color: rgb(115\, 115\, 115)\; font-family: Arial\;"><span style="font-size:14px\;"><span style="font-family:arial\;">The 2026 Salt Lake Parade of Homes is celebrating its 80th Anniversary with an unforgettable showcase running July 31&ndash\;August 15. As the nation&rsquo\;s very first Parade of Homes\, launched in 1946\, this milestone year promises to be one of our most spectacular yet\, featuring 27 extraordinary homes across Salt Lake County and Tooele County\, including a remarkable remodel you won&#39\;t want to miss.<br style="box-sizing: border-box\;" />\n<br style="box-sizing: border-box\;" />\n<span style="box-sizing: border-box\; font-weight: bolder\; margin-bottom: 0.35rem\; display: inline-block\; position: relative\;">A Historic Showcase</span></span></span><br />\n<span style="font-size:14px\;"><span style="font-family:arial\;">Since 1946\, the Salt Lake Parade of Homes\, proudly presented by the Salt Lake Home Builders Association\, has inspired homeowners\, designers\, and dreamers with fresh ideas\, innovative craftsmanship\, and breathtaking design. This year&rsquo\;s anniversary edition continues that legacy with a standout collection of homes&mdash\;ranging from 2\,100 to over 15\,000 square feet&mdash\;each showcasing the brilliance of Utah&rsquo\;s top builders.</span></span></div>\n\n<div style="box-sizing: border-box\; font-size: 16px\; color: rgb(115\, 115\, 115)\; font-family: Arial\;">\n<div style="box-sizing: border-box\;">\n<div><br style="box-sizing: border-box\;" />\n<span style="font-size:14px\;"><span style="font-family:arial\;"><span style="box-sizing: border-box\; font-weight: bolder\;">What You&#39\;ll See</span><br style="box-sizing: border-box\;" />\nOur builders are bringing unmatched creativity\, craftsmanship\, and character to this year&rsquo\;s Parade:</span></span></div>\n\n<ul style="box-sizing: border-box\; margin-top: 0px\; margin-bottom: 1rem\; display: flex\; flex-direction: column\; gap: 1rem\;">\n	<li style="box-sizing: border-box\; margin: 0px\;">\n	<div><span style="font-size:14px\;"><span style="font-family:arial\;">Luxury Custom Homes - Explore Salt Lake County&rsquo\;s finest custom builds\, complete with high-end finishes\, smart home technology\, elevated outdoor living\, and meticulous architectural detail.</span></span></div>\n	</li>\n	<li style="box-sizing: border-box\; margin: 0px\;">\n	<div><span style="font-size:14px\;"><span style="font-family:arial\;">Tooele County Showstoppers - Four impressive homes by Heritage Homes\, GTM Builders\, Eagle Point Homes\, and J Thomas Homes offer unexpected design moments and scenic settings - proof that the drive is absolutely worth it.</span></span></div>\n	</li>\n	<li style="box-sizing: border-box\; margin: 0px\;">\n	<div><span style="font-size:14px\;"><span style="font-family:arial\;">A Stunning Whole-Home Remodel - Citizen Builders&#39\;&nbsp\;featured remodel highlights the power of thoughtful transformation - guaranteed to spark ideas for your own home.</span></span></div>\n	</li>\n	<li style="box-sizing: border-box\; margin: 0px\;">\n	<div><span style="font-size:14px\;"><span style="font-family:arial\;">Walkable Communities - Discover&nbsp\;several neighborhoods featuring multiple Parade homes\, giving you the chance to stroll easily from one stunning home to the next.</span></span></div>\n	</li>\n</ul>\n\n<div>&nbsp\;</div>\n\n<div><span style="font-size:14px\;"><span style="font-family:arial\;"><span style="box-sizing: border-box\; font-weight: bolder\;">Why Attend?</span><br style="box-sizing: border-box\;" />\nThe 80th Anniversary Parade is more than a home tour&mdash\;it&rsquo\;s a celebration of design\, innovation\, and Utah tradition.</span></span></div>\n\n<ul style="box-sizing: border-box\; margin-top: 0px\; margin-bottom: 1rem\; display: flex\; flex-direction: column\; gap: 1rem\;">\n	<li style="box-sizing: border-box\; margin: 0px\;">\n	<div><span style="font-size:14px\;"><span style="font-family:arial\;">Endless Inspiration: Gather ideas for your next project\, from floor plans to finishes.</span></span></div>\n	</li>\n	<li style="box-sizing: border-box\; margin: 0px\;">\n	<div><span style="font-size:14px\;"><span style="font-family:arial\;">Meet the Builders: Connect with industry-leading professionals ready to bring your vision to life.</span></span></div>\n	</li>\n	<li style="box-sizing: border-box\; margin: 0px\;">\n	<div><span style="font-size:14px\;"><span style="font-family:arial\;">Celebrate Community: Join thousands in a beloved tradition that&rsquo\;s been shaping Utah living since 1946.</span></span></div>\n	</li>\n</ul>\n\n<div style="box-sizing: border-box\; margin: 0px 0px 1rem\;"><span style="font-size:14px\;"><span style="font-family:arial\;"><span style="box-sizing: border-box\; font-weight: bolder\; margin-bottom: 0.35rem\; display: inline-block\; position: relative\;">Tickets &amp\; Details</span></span></span></div>\n\n<ul style="box-sizing: border-box\; margin-top: 0px\; margin-bottom: 1rem\; display: flex\; flex-direction: column\; gap: 1rem\;">\n	<li style="box-sizing: border-box\; margin: 0px\;">\n	<div><span style="font-size:14px\;"><span style="font-family:arial\;">Tickets will be&nbsp\;available at&nbsp\;<a href="https://saltlakeparade.com/web/" style="box-sizing: border-box\; background-color: transparent\; color: rgb(1\, 55\, 165)\; text-decoration: none\; overflow-wrap: break-word\;">SaltLakeParade.com</a>&nbsp\;or via our free mobile app\, featuring maps and a &ldquo\;plan my day&rdquo\; tool. The Parade runs daily from 12&nbsp\;to 9 PM (closed Sundays and Mondays).</span></span></div>\n	</li>\n</ul>\n\n<div style="box-sizing: border-box\; margin: 0px\;">\n<div style="color: rgb(115\, 115\, 115)\; font-family: Arial\; font-size: 16px\; box-sizing: border-box\; margin: 0px 0px 1rem\;"><span style="font-size:14px\;"><span style="font-family:arial\;"><span style="box-sizing: border-box\; font-weight: bolder\; margin-bottom: 0.35rem\; display: inline-block\; position: relative\;">Garage Exhibitor Booths</span></span></span></div>\n\n<ul style="color: rgb(115\, 115\, 115)\; font-family: Arial\; font-size: 16px\; box-sizing: border-box\; margin-top: 0px\; margin-bottom: 1rem\; display: flex\; flex-direction: column\; gap: 1rem\;">\n	<li style="color: rgb(115\, 115\, 115)\; font-family: Arial\; font-size: 16px\; box-sizing: border-box\; margin: 0px 0px 1rem\;"><span style="font-size:14px\;"><span style="font-family:arial\;">Garage Exhibitor Booths are available in select homes for the duration of the Parade.</span></span></li>\n	<li style="color: rgb(115\, 115\, 115)\; font-family: Arial\; font-size: 16px\; box-sizing: border-box\; margin: 0px 0px 1rem\;"><span style="font-size:14px\;"><span style="font-family:arial\;">&#8203\;<span style="font-size:14px\;"><span style="font-family:arial\;">Booths are 10&#39\;x&#39\;10&#39\; and priced at $600.&nbsp\;</span></span></span></span></li>\n	<li style="color: rgb(115\, 115\, 115)\; font-family: Arial\; font-size: 16px\; box-sizing: border-box\; margin: 0px 0px 1rem\;"><span style="font-size:14px\;"><span style="font-family:arial\;"><span style="font-size:14px\;"><span style="font-family:arial\;"><span style="font-size:14px\;"><span style="font-family:arial\;">A limited number of booth are available in the following Parade homes:</span></span></span></span></span></span>\n	<ul>\n		<li style="box-sizing: border-box\; margin: 0px\;">\n		<div><span style="font-family:arial\;"><span style="font-size:16px\;"><a href="https://concordhomesutah.com/" style="color: rgb(1\, 55\, 165)\; font-family: Arial\; font-size: 16px\; background-color: transparent\; box-sizing: border-box\; text-decoration: none\; overflow-wrap: break-word\;">Concord Homes</a></span></span></div>\n		</li>\n		<li style="box-sizing: border-box\; margin: 0px\;">\n		<div><span style="font-family:arial\;"><span style="font-size:16px\;"><a href="https://www.destinationhomes.com/" style="color: rgb(1\, 55\, 165)\; font-family: Arial\; font-size: 16px\; background-color: transparent\; box-sizing: border-box\; text-decoration: none\; overflow-wrap: break-word\;">Destination Homes</a></span></span></div>\n		</li>\n		<li style="box-sizing: border-box\; margin: 0px\;">\n		<div><span style="font-family:arial\;"><span style="font-size:16px\;"><a href="https://elevationhomesutah.com/" style="color: rgb(1\, 55\, 165)\; font-family: Arial\; font-size: 16px\; background-color: transparent\; box-sizing: border-box\; text-decoration: none\; overflow-wrap: break-word\;">Elevation Homes</a></span></span></div>\n		</li>\n		<li style="box-sizing: border-box\; margin: 0px\;">\n		<div><span style="font-family:arial\;"><span style="font-size:16px\;"><a href="https://gtmbuilders.com/" style="color: rgb(1\, 55\, 165)\; font-family: Arial\; font-size: 16px\; background-color: transparent\; box-sizing: border-box\; text-decoration: none\; overflow-wrap: break-word\;">GTM Builders</a></span></span></div>\n		</li>\n		<li style="box-sizing: border-box\; margin: 0px\;">\n		<div><span style="font-family:arial\;"><span style="font-size:16px\;"><a href="http://hchutah.com/#:~:text=Custom%20Home%20Builder&amp\;text=Building%20homes%20to%20a%20higher\,standard&amp\;text=We%20will%20build%20on%20our\,lot%20or%20yours&amp\;text=Craig%20Bonham%20Jr." style="color: rgb(1\, 55\, 165)\; font-family: Arial\; font-size: 16px\; background-color: transparent\; box-sizing: border-box\; text-decoration: none\; overflow-wrap: break-word\;">High Country Homes &amp\; Development Inc</a></span></span></div>\n		</li>\n		<li style="box-sizing: border-box\; margin: 0px\;">\n		<div><span style="font-family:arial\;"><span style="font-size:16px\;"><a href="https://ivoryhomes.com/" style="background-color: transparent\; color: rgb(1\, 55\, 165)\; box-sizing: border-box\; text-decoration: none\; overflow-wrap: break-word\;">Ivory Homes</a></span></span></div>\n		</li>\n		<li style="box-sizing: border-box\; margin: 0px\;">\n		<div><span style="font-family:arial\;"><span style="font-size:16px\;"><a href="https://www.jlrcontractors.com/" style="color: rgb(1\, 55\, 165)\; font-family: Arial\; font-size: 16px\; background-color: transparent\; box-sizing: border-box\; text-decoration: none\; overflow-wrap: break-word\;">J Lyne Roberts &amp\; Sons</a></span></span></div>\n		</li>\n		<li style="box-sizing: border-box\; margin: 0px\;">\n		<div><span style="font-family:arial\;"><span style="font-size:16px\;"><a href="https://www.pandenconstruction.com/" style="color: rgb(1\, 55\, 165)\; font-family: Arial\; font-size: 16px\; background-color: transparent\; box-sizing: border-box\; text-decoration: none\; overflow-wrap: break-word\;">Panden Construction</a></span></span></div>\n		</li>\n		<li style="box-sizing: border-box\; margin: 0px\;">\n		<div><span style="font-family:arial\;"><span style="font-size:16px\;"><a href="https://wrighthomes.com/" style="color: rgb(1\, 55\, 165)\; font-family: Arial\; font-size: 16px\; background-color: transparent\; box-sizing: border-box\; text-decoration: none\; overflow-wrap: break-word\;">Wright Homes</a></span></span></div>\n		</li>\n	</ul>\n	</li>\n	<li style="box-sizing: border-box\; margin: 0px\;">\n	<div><span style="font-size:14px\;"><span style="font-family:arial\;">To purchase a booth\, please register by loging in to your member portal.</span></span></div>\n	</li>\n</ul>\n</div>\n\n<div style="box-sizing: border-box\; margin: 0px 0px 1rem\;"><br style="box-sizing: border-box\;" />\n<span style="font-size:14px\;"><span style="font-family:arial\;"><span style="box-sizing: border-box\; font-weight: bolder\; margin-bottom: 0.35rem\; display: inline-block\; position: relative\;">Thank You\, Builders!</span><br style="box-sizing: border-box\;" />\nTo the exceptional builders participating in this landmark year: thank you.<br style="box-sizing: border-box\;" />\nYour passion\, creativity\, and commitment to excellence shine in every home&mdash\;from Tooele&rsquo\;s innovative designs to Salt Lake&rsquo\;s custom masterpieces and the transformative remodel. Your work enriches our communities\, inspires countless homeowners\, and continues the legacy of the Salt Lake Parade of Homes.<br style="box-sizing: border-box\;" />\n<br style="box-sizing: border-box\;" />\nHere&rsquo\;s to making the 80th Anniversary a Parade to remember&mdash\;and to building the future\, one extraordinary home at a time.</span></span></div>\n\n<div style="box-sizing: border-box\; margin: 0px 0px 1rem\;"><span style="font-size:14px\;"><span style="font-family:arial\;"><span style="box-sizing: border-box\; font-weight: bolder\; margin-bottom: 0.35rem\; display: inline-block\; position: relative\;">2026&nbsp\;Participating Builders</span></span></span></div>\n\n<div style="box-sizing: border-box\; margin: 0px 0px 1rem\;"><span style="font-size:14px\;"><span style="font-family:arial\;"><a href="https://butterfieldconstruction.org/" style="box-sizing: border-box\; background-color: transparent\; color: rgb(1\, 55\, 165)\; text-decoration: none\; overflow-wrap: break-word\;">Butterfield Construction</a><br style="box-sizing: border-box\;" />\n<a href="https://www.citizen-builders.com/" style="box-sizing: border-box\; background-color: transparent\; color: rgb(1\, 55\, 165)\; text-decoration: none\; overflow-wrap: break-word\;">Citizen Builders</a><br style="box-sizing: border-box\;" />\n<a href="https://citypointutah.com/" style="box-sizing: border-box\; background-color: transparent\; color: rgb(1\, 55\, 165)\; text-decoration: none\; overflow-wrap: break-word\;">City Point Homes</a><br style="box-sizing: border-box\;" />\n<a href="https://concordhomesutah.com/" style="box-sizing: border-box\; background-color: transparent\; color: rgb(1\, 55\, 165)\; text-decoration: none\; overflow-wrap: break-word\;">Concord Homes</a><br style="box-sizing: border-box\;" />\n<a href="https://www.destinationhomes.com/" style="box-sizing: border-box\; background-color: transparent\; color: rgb(1\, 55\, 165)\; text-decoration: none\; overflow-wrap: break-word\;">Destination Homes</a><br style="box-sizing: border-box\;" />\n<a href="https://ebuildershomes.com/home-utah-luxury-home-builder-and-remodeler-e-builders" style="box-sizing: border-box\; background-color: transparent\; color: rgb(1\, 55\, 165)\; text-decoration: none\; overflow-wrap: break-word\;">E Builders</a><br style="box-sizing: border-box\;" />\n<a href="https://eaglepointhomes.com/" style="box-sizing: border-box\; background-color: transparent\; color: rgb(1\, 55\, 165)\; text-decoration: none\; overflow-wrap: break-word\;">Eagle Point Homes</a><br style="box-sizing: border-box\;" />\n<a href="https://elevationhomesutah.com/" style="box-sizing: border-box\; background-color: transparent\; color: rgb(1\, 55\, 165)\; text-decoration: none\; overflow-wrap: break-word\;">Elevation Homes</a><br style="box-sizing: border-box\;" />\n<a href="https://gtmbuilders.com/" style="box-sizing: border-box\; background-color: transparent\; color: rgb(1\, 55\, 165)\; text-decoration: none\; overflow-wrap: break-word\;">GTM Builders</a><br style="box-sizing: border-box\;" />\n<a href="https://www.heritagehomesutah.com/?utm_source=google_ads&amp\;gad_source=1&amp\;gad_campaignid=23197198011&amp\;gbraid=0AAAAAC_Bo5_01_vTWdIzhKVyzvCbmhXCm&amp\;gclid=CjwKCAjwpcTNBhA5EiwAdO1S9s_uoPiO9BSbx_R72BLPn0VXsiItTZNs8vdFfYLfTO-zvnRp5ZQUYhoCR6AQAvD_BwE" style="box-sizing: border-box\; background-color: transparent\; color: rgb(1\, 55\, 165)\; text-decoration: none\; overflow-wrap: break-word\;">Heritage Homes</a><br style="box-sizing: border-box\;" />\n<a href="http://hchutah.com/#:~:text=Custom%20Home%20Builder&amp\;text=Building%20homes%20to%20a%20higher\,standard&amp\;text=We%20will%20build%20on%20our\,lot%20or%20yours&amp\;text=Craig%20Bonham%20Jr." style="box-sizing: border-box\; background-color: transparent\; color: rgb(1\, 55\, 165)\; text-decoration: none\; overflow-wrap: break-word\;">High Country Homes &amp\; Development Inc</a><br style="box-sizing: border-box\;" />\n<a href="https://holmeshomes.com/?utm_source=MaxConnect&amp\;utm_medium=PaidSearch&amp\;utm_content=HH&amp\;utm_term=holmes%20homes&amp\;utm_campaign=MaxConnect_SelfBrand&amp\;kudos_platform=Google&amp\;kudos_source=MaxConnect&amp\;kudos_medium=PaidSearch&amp\;kudos_adid=613370598198&amp\;gad_source=1" style="box-sizing: border-box\; background-color: transparent\; color: rgb(1\, 55\, 165)\; text-decoration: none\; overflow-wrap: break-word\;">Holmes Homes</a><br style="box-sizing: border-box\;" />\n<a href="https://ivoryhomes.com/" style="box-sizing: border-box\; background-color: transparent\; color: rgb(1\, 55\, 165)\; text-decoration: none\; overflow-wrap: break-word\;">Ivory Homes</a><br style="box-sizing: border-box\;" />\n<a href="https://www.jlrcontractors.com/" style="box-sizing: border-box\; background-color: transparent\; color: rgb(1\, 55\, 165)\; text-decoration: none\; overflow-wrap: break-word\;">J Lyne Roberts &amp\; Sons</a><br style="box-sizing: border-box\;" />\n<a href="https://jthomashomes.com/" style="box-sizing: border-box\; background-color: transparent\; color: rgb(1\, 55\, 165)\; text-decoration: none\; overflow-wrap: break-word\;">J Thomas Homes</a><br style="box-sizing: border-box\;" />\n<a href="https://www.narwhalhomes.com/" style="box-sizing: border-box\; background-color: transparent\; color: rgb(1\, 55\, 165)\; text-decoration: none\; overflow-wrap: break-word\;">Narwhal Homes</a><br style="box-sizing: border-box\;" />\n<a href="https://www.nustarutah.com/" style="box-sizing: border-box\; background-color: transparent\; color: rgb(1\, 55\, 165)\; text-decoration: none\; overflow-wrap: break-word\;">NuStar</a><br style="box-sizing: border-box\;" />\n<a href="https://www.pandenconstruction.com/" style="box-sizing: border-box\; background-color: transparent\; color: rgb(1\, 55\, 165)\; text-decoration: none\; overflow-wrap: break-word\;">Panden Construction</a><br style="box-sizing: border-box\;" />\n<a href="https://segohomes.com/" style="box-sizing: border-box\; background-color: transparent\; color: rgb(1\, 55\, 165)\; text-decoration: none\; overflow-wrap: break-word\;">Sego Homes</a><br style="box-sizing: border-box\;" />\n<a href="https://symphonyhomes.com/" style="box-sizing: border-box\; background-color: transparent\; color: rgb(1\, 55\, 165)\; text-decoration: none\; overflow-wrap: break-word\;">Symphony Homes</a><br style="box-sizing: border-box\;" />\n<a href="https://www.takirton.com/about-us" style="box-sizing: border-box\; background-color: transparent\; color: rgb(1\, 55\, 165)\; text-decoration: none\; overflow-wrap: break-word\;">T.A. Kirton</a><a href="https://www.takirton.com/" style="box-sizing: border-box\; background-color: transparent\; color: rgb(1\, 55\, 165)\; text-decoration: none\; overflow-wrap: break-word\;">&nbsp\;Custom Homes</a><br style="box-sizing: border-box\;" />\n<a href="https://www.tripointehomes.com/" style="box-sizing: border-box\; background-color: transparent\; color: rgb(1\, 55\, 165)\; text-decoration: none\; overflow-wrap: break-word\;">Tri Pointe Homes</a><br style="box-sizing: border-box\;" />\n<a href="https://vibehomesco.com/" style="box-sizing: border-box\; background-color: transparent\; color: rgb(1\, 55\, 165)\; text-decoration: none\; overflow-wrap: break-word\;">Vibe Homes</a><a href="https://vibehomesco.com/" style="box-sizing: border-box\; background-color: transparent\; color: rgb(1\, 55\, 165)\; text-decoration: none\; overflow-wrap: break-word\;">&nbsp\;&amp\; Company LLC</a><br style="box-sizing: border-box\;" />\n<a href="https://wrighthomes.com/" style="box-sizing: border-box\; background-color: transparent\; color: rgb(1\, 55\, 165)\; text-decoration: none\; overflow-wrap: break-word\;">Wright Homes</a><br style="box-sizing: border-box\;" />\n<a href="https://369-homes.com/" style="box-sizing: border-box\; background-color: transparent\; color: rgb(1\, 55\, 165)\; text-decoration: none\; overflow-wrap: break-word\;">369 Homes</a><br style="box-sizing: border-box\;" />\n<br style="box-sizing: border-box\;" />\nWant to see who else is a member of the Salt Lake Home Builders Association?&nbsp\;<a href="https://www.slhba.com/list" style="box-sizing: border-box\; background-color: transparent\; color: rgb(1\, 55\, 165)\; text-decoration: none\; overflow-wrap: break-word\;">Check out our online directory</a>.<br style="box-sizing: border-box\;" />\n<br style="box-sizing: border-box\;" />\nJoin us July 31 - August 15&nbsp\;to celebrate 81&nbsp\;years of building brilliance. Download the app\,&nbsp\;<a href="https://saltlakeparade.com/web/" style="box-sizing: border-box\; background-color: transparent\; color: rgb(1\, 55\, 165)\; text-decoration: none\; overflow-wrap: break-word\;">grab your tickets</a>\, and prepare to be amazed by the 2026&nbsp\;Salt Lake Parade of Homes!</span></span></div>\n</div>\n</div>\n
LOCATION:
UID:e.9412.3932
SEQUENCE:3
DTSTAMP:20260424T115548Z
URL:http://members.saltlakeparade.com/events/details/salt-lake-parade-of-homes-80th-anniversary-garage-exhibitor-booths-3932
END:VEVENT

END:VCALENDAR
