BEGIN:VCALENDAR
VERSION:2.0
PRODID:-//ChamberMaster//Event Calendar 2.0//EN
METHOD:PUBLISH
X-PUBLISHED-TTL:P3D
REFRESH-INTERVAL:P3D
CALSCALE:GREGORIAN
BEGIN:VEVENT
DTSTART:20250801T180000Z
DTEND:20250817T030000Z
X-MICROSOFT-CDO-ALLDAYEVENT:FALSE
SUMMARY:Salt Lake Parade of Homes 2025
DESCRIPTION:Utah\, get ready for an unforgettable experience! The 2025 Salt Lake Parade of Homes\, marking its 80th year\, is set to dazzle from August 1 to August 16. As the nation?s first Parade of Homes\, launched in 1946\, this milestone year promises jaw-dropping homes across Salt Lake and Tooele Counties\, showcasing the brilliance of our builders. With stunning homes?ranging from 1\,800 to 14\,000 square feet?and one incredible remodel\, this is a Parade you won?t want to miss!\n\n\n\nA Historic Showcase\n\nFor 80 years\, the Salt Lake Parade of Homes\, hosted by the Salt Lake Home Builders Association\, has inspired homeowners and design lovers with innovative homes. This year\, we?re celebrating with homes in Salt Lake County and Tooele County\, and one must-see remodel. From cozy 1\,800-square-foot gems to the largest passive house in the country at 14\,000 square feet\, our builders are redefining modern living. Whether you?re seeking design inspiration or your dream home?s builder\, the 2025 Parade is the place to be!\n\n\nWhat to Expect\n\nOur builders are bringing their A-game\, blending craftsmanship with cutting-edge trends:\n\n	 Luxury Custom Homes: Salt Lake County?s homes include custom builds with high-end finishes\, smart tech\, and expansive outdoor spaces. The 14\,000-square-foot passive house\, a marvel of sustainability\, showcases eco-friendly luxury at its finest.\n	Tooele County Gems: Three homes in Tooele County\, built by Hamlet Homes\, GTM Builders\, and Kirk D Pearson Construction\, will make the drive worthwhile. Be prepared for delightful surprises!\n	Stunning Remodel: Don?t miss our breathtaking remodel\, a testament to transformative design that will spark ideas for your own space.\n	Innovative Communities: Discover a new community with rolling hills\, ridgeline views\, and dawn breaking in pinks and gold. You'll fall in love with this Oquirrh Mountain community where the sage grows wild!\n\nWhy Visit?\n\nThe 80th Parade is a celebration of legacy and innovation:\n\n	Inspiration Galore: Tour homes from 1\,800 to 14\,000 square feet\, packed with ideas for your next project.\n	Meet Builders: Connect with top builders to find the perfect partner for your vision.\n	Community Tradition: Join a beloved Utah tradition that?s been inspiring since 1946.\n\n\nTickets are available at SaltLakeParade.com or via our free mobile app\, featuring maps and a ?plan my day? tool. The Parade runs daily from 12:00 PM to 9:00 PM (closed Sundays and Mondays).\n\n\n\nThank You\, Builders!\n\nTo our incredible builders: thank you for making the 80th Salt Lake Parade of Homes a historic success. Your passion\, creativity\, and dedication shine in every home\, from Tooele?s innovative designs to Salt Lake?s custom masterpieces and the remarkable remodel. Participating in this milestone year is a testament to your commitment to excellence\, and we?re deeply grateful for your efforts. You?re inspiring dreams and setting the standard for the future.\n\n2025 Participating Builders\n\nAlair Homes\n\nBright Line Homes\n\nBya Interiors Design & Build\n\nCity Point Homes\n\nCross Construction\n\nDavid Weekley Homes\n\nDestination Homes\n\nGTM Builders\n\nGordon Milar Construction\n\nHamlet Homes\n\nIvory Homes\n\nKirk D Pearson Construction\n\nRainey Homes\n\nSego Homes\n\nSymphony Homes\n\nWright Homes\n\nToll Brothers\n\n369 Homes\n\n\n\n\n\n\n\nWant to see who else is a member of the Salt Lake Home Builders Association? Check out our online directory.\n\n\n\nJoin us August 1?16\, 2025\, to celebrate 80 years of building brilliance. Download the app\, grab your tickets\, and prepare to be amazed by the 2025 Salt Lake Parade of Homes!
X-ALT-DESC;FMTTYPE=text/html:<p style="box-sizing: border-box\; margin: 0px\; font-size: 18px\; inset: auto\; clear: none\; color: rgb(103\, 103\, 103)\; content: normal\; direction: inherit\; empty-cells: show\; float: none\; font-style: inherit\; font-variant-numeric: inherit\; font-variant-east-asian: inherit\; font-weight: inherit\; font-stretch: inherit\; font-family: inherit\; line-height: inherit\; max-height: none\; max-width: none\; min-height: initial\; min-width: initial\; opacity: 1\; outline-offset: 0px\; overflow: visible\; padding: 0px 0px 27px\; position: static\; resize: none\; table-layout: auto\; text-overflow: clip\; vertical-align: baseline\; visibility: inherit\; word-break: inherit\; overflow-wrap: inherit\; z-index: auto\; background: none rgb(250\, 250\, 250)\; border: 0px\; border-collapse: separate\; border-radius: 0px\; height: auto\; width: auto\; box-shadow: none\; outline: 0px\; -webkit-font-smoothing: subpixel-antialiased\;">&nbsp\;</p>\n\n<p style="box-sizing: border-box\; margin: 0px 0px 1rem\; font-size: 1rem\; color: rgb(68\, 68\, 68)\; font-family: Arial\;">Utah\, get ready for an unforgettable experience! The&nbsp\;<a href="https://saltlakeparade.com/web/" style="box-sizing: border-box\; background-color: transparent\; color: rgb(1\, 55\, 165)\; text-decoration-line: none\; overflow-wrap: break-word\;">2025 Salt Lake Parade of Homes</a>\, marking its 80th year\, is set to dazzle from August 1 to August 16. As the nation?s first Parade of&nbsp\;Homes\, launched in 1946\, this milestone year promises jaw-dropping homes across Salt Lake and Tooele Counties\, showcasing the brilliance of our builders. With stunning homes?ranging from 1\,800 to 14\,000 square feet?and one incredible remodel\, this is a Parade you won?t want to miss!<br style="box-sizing: border-box\;" />\n<br style="box-sizing: border-box\;" />\n<span style="box-sizing: border-box\; font-weight: bolder\;">A Historic Showcase</span></p>\n\n<div style="box-sizing: border-box\; color: rgb(68\, 68\, 68)\; font-family: Arial\; font-size: 14px\;">For 80 years\, the Salt Lake Parade of Homes\, hosted by the Salt Lake Home Builders Association\, has inspired homeowners and design lovers with innovative homes. This year\, we?re celebrating with homes in Salt Lake County and Tooele County\, and one must-see remodel. From cozy 1\,800-square-foot gems to the largest passive house in the country at 14\,000 square feet\, our builders are redefining modern living. Whether you?re seeking design inspiration or your dream home?s builder\, the 2025 Parade is the place to be!\n<div style="box-sizing: border-box\;"><br style="box-sizing: border-box\;" />\n<span style="box-sizing: border-box\; font-weight: bolder\;">What to Expect</span><br style="box-sizing: border-box\;" />\nOur builders are bringing their A-game\, blending craftsmanship with cutting-edge trends:\n<ul style="box-sizing: border-box\; margin-top: 0px\; margin-bottom: 1rem\;">\n	<li style="box-sizing: border-box\; margin: 0px\;">&#8203\;Luxury Custom Homes: Salt Lake County?s homes include custom builds with high-end finishes\, smart tech\, and expansive outdoor spaces. The 14\,000-square-foot passive house\, a marvel of sustainability\, showcases eco-friendly luxury at its finest.</li>\n	<li style="box-sizing: border-box\; margin: 0px\;">Tooele County Gems: Three homes in Tooele County\, built by Hamlet Homes\, GTM Builders\, and Kirk D Pearson Construction\, will make the drive worthwhile. Be prepared for delightful surprises!</li>\n	<li style="box-sizing: border-box\; margin: 0px\;">Stunning Remodel: Don?t miss our breathtaking remodel\, a testament to transformative design that will spark ideas for your own space.</li>\n	<li style="box-sizing: border-box\; margin: 0px\;">Innovative Communities:&nbsp\;Discover a new community with rolling hills\, ridgeline views\, and dawn breaking in pinks and gold. You&#39\;ll fall in love with this Oquirrh Mountain community where the&nbsp\;sage grows wild!</li>\n</ul>\n<span style="box-sizing: border-box\; font-weight: bolder\;">Why Visit?</span><br style="box-sizing: border-box\;" />\nThe 80th Parade is a celebration of legacy and innovation:\n<ul style="box-sizing: border-box\; margin-top: 0px\; margin-bottom: 1rem\;">\n	<li style="box-sizing: border-box\; margin: 0px\;">Inspiration Galore: Tour homes from 1\,800 to 14\,000 square feet\, packed with ideas for your next project.</li>\n	<li style="box-sizing: border-box\; margin: 0px\;">Meet Builders: Connect with top builders to find the perfect partner for your vision.</li>\n	<li style="box-sizing: border-box\; margin: 0px\;">Community Tradition: Join a beloved Utah tradition that?s been inspiring since 1946.</li>\n</ul>\n\n<p style="box-sizing: border-box\; margin: 0px 0px 1rem\; font-size: 1rem\;">Tickets are available at&nbsp\;<a href="https://saltlakeparade.com/web/" style="box-sizing: border-box\; background-color: transparent\; color: rgb(1\, 55\, 165)\; text-decoration-line: none\; overflow-wrap: break-word\;">SaltLakeParade.com</a>&nbsp\;or via our free mobile app\, featuring maps and a ?plan my day? tool. The Parade runs daily from 12:00 PM to 9:00 PM (closed Sundays and Mondays).<br style="box-sizing: border-box\;" />\n<br style="box-sizing: border-box\;" />\n<span style="box-sizing: border-box\; font-weight: bolder\;">Thank You\, Builders!</span><br style="box-sizing: border-box\;" />\nTo our incredible builders: thank you for making the 80th Salt Lake Parade of Homes a historic success. Your passion\, creativity\, and dedication shine in every home\, from Tooele?s innovative designs to Salt Lake?s custom masterpieces and the remarkable remodel. Participating in this milestone year is a testament to your commitment to excellence\, and we?re deeply grateful for your efforts. You?re inspiring dreams and setting the standard for the future.</p>\n\n<p style="box-sizing: border-box\; margin: 0px 0px 1rem\; font-size: 1rem\;">2025 Participating Builders</p>\n\n<p style="box-sizing: border-box\; margin: 0px 0px 1rem\; font-size: 1rem\;"><a href="https://www.alairhomes.com/salt-lake/" style="box-sizing: border-box\; background-color: transparent\; color: rgb(1\, 55\, 165)\; text-decoration-line: none\; overflow-wrap: break-word\;">Alair Homes</a><br style="box-sizing: border-box\;" />\n<a href="https://www.brightlineutah.com/" style="box-sizing: border-box\; background-color: transparent\; color: rgb(1\, 55\, 165)\; text-decoration-line: none\; overflow-wrap: break-word\;">Bright Line Homes</a><br style="box-sizing: border-box\;" />\n<a href="https://www.byapatzner.com/" style="box-sizing: border-box\; background-color: transparent\; color: rgb(1\, 55\, 165)\; text-decoration-line: none\; overflow-wrap: break-word\;">Bya Interiors Design &amp\; Build</a><br style="box-sizing: border-box\;" />\n<a href="https://citypointutah.com/" style="box-sizing: border-box\; background-color: transparent\; color: rgb(1\, 55\, 165)\; text-decoration-line: none\; overflow-wrap: break-word\;">City Point Homes</a><br style="box-sizing: border-box\;" />\n<a href="https://www.buildwithcross.com/" style="box-sizing: border-box\; background-color: transparent\; color: rgb(1\, 55\, 165)\; text-decoration-line: none\; overflow-wrap: break-word\;">Cross Construction</a><br style="box-sizing: border-box\;" />\n<a href="https://www.davidweekleyhomes.com/new-homes/ut" style="box-sizing: border-box\; background-color: transparent\; color: rgb(1\, 55\, 165)\; text-decoration-line: none\; overflow-wrap: break-word\;">David Weekley Homes</a><br style="box-sizing: border-box\;" />\n<a href="https://www.destinationhomes.com/" style="box-sizing: border-box\; background-color: transparent\; color: rgb(1\, 55\, 165)\; text-decoration-line: none\; overflow-wrap: break-word\;">Destination Homes</a><br style="box-sizing: border-box\;" />\n<a href="https://gtmbuilders.com/" style="box-sizing: border-box\; background-color: transparent\; color: rgb(1\, 55\, 165)\; text-decoration-line: none\; overflow-wrap: break-word\;">GTM Builders</a><br style="box-sizing: border-box\;" />\n<a href="https://gmilar.com/" style="box-sizing: border-box\; background-color: transparent\; color: rgb(1\, 55\, 165)\; text-decoration-line: none\; overflow-wrap: break-word\;">Gordon Milar Construction</a><br style="box-sizing: border-box\;" />\n<a href="https://hamlethomes.com/" style="box-sizing: border-box\; background-color: transparent\; color: rgb(1\, 55\, 165)\; text-decoration-line: none\; overflow-wrap: break-word\;">Hamlet Homes</a><br style="box-sizing: border-box\;" />\n<a href="https://ivoryhomes.com/" style="box-sizing: border-box\; background-color: transparent\; color: rgb(1\, 55\, 165)\; text-decoration-line: none\; overflow-wrap: break-word\;">Ivory Homes</a><br style="box-sizing: border-box\;" />\n<a href="https://kdphomes.com/" style="box-sizing: border-box\; background-color: transparent\; color: rgb(1\, 55\, 165)\; text-decoration-line: none\; overflow-wrap: break-word\;">Kirk D Pearson Construction</a><br style="box-sizing: border-box\;" />\n<a href="https://raineyhomes.com/" style="box-sizing: border-box\; background-color: transparent\; color: rgb(1\, 55\, 165)\; text-decoration-line: none\; overflow-wrap: break-word\;">Rainey Homes</a><br style="box-sizing: border-box\;" />\n<a href="https://segohomes.com/" style="box-sizing: border-box\; background-color: transparent\; color: rgb(1\, 55\, 165)\; text-decoration-line: none\; overflow-wrap: break-word\;">Sego Homes</a><br style="box-sizing: border-box\;" />\n<a href="https://symphonyhomes.com/" style="box-sizing: border-box\; background-color: transparent\; color: rgb(1\, 55\, 165)\; text-decoration-line: none\; overflow-wrap: break-word\;">Symphony Homes</a><br style="box-sizing: border-box\;" />\n<a href="https://wrighthomes.com/" style="box-sizing: border-box\; background-color: transparent\; color: rgb(1\, 55\, 165)\; text-decoration-line: none\; overflow-wrap: break-word\;" target="_blank">Wright Homes</a><br />\n<a href="https://www.tollbrothers.com/" style="color: rgb(1\, 55\, 165)\; font-family: Arial\; font-size: 16px\; background-color: transparent\; box-sizing: border-box\; text-decoration-line: none\; overflow-wrap: break-word\;" target="_blank">Toll Brothers</a><br />\n<a href="https://369-homes.com/" target="_blank">369 Homes</a><br />\n<br />\n<br style="box-sizing: border-box\;" />\n<br style="box-sizing: border-box\;" />\nWant to see who else is a member of the Salt Lake Home Builders Association?&nbsp\;<a href="https://www.slhba.com/list" style="box-sizing: border-box\; background-color: transparent\; color: rgb(1\, 55\, 165)\; text-decoration-line: none\; overflow-wrap: break-word\;">Check out our online directory</a>.<br style="box-sizing: border-box\;" />\n<br style="box-sizing: border-box\;" />\nJoin us August 1?16\, 2025\, to celebrate 80 years of building brilliance. Download the app\,&nbsp\;<a href="https://saltlakeparade.com/web/" style="box-sizing: border-box\; background-color: transparent\; color: rgb(1\, 55\, 165)\; text-decoration-line: none\; overflow-wrap: break-word\;">grab your tickets</a>\, and prepare to be amazed by the 2025 Salt Lake Parade of Homes!</p>\n</div>\n</div>\n\n<p style="box-sizing: border-box\; margin: 0px\; font-size: 18px\; inset: auto\; clear: none\; color: rgb(103\, 103\, 103)\; content: normal\; direction: inherit\; empty-cells: show\; float: none\; font-style: inherit\; font-variant-numeric: inherit\; font-variant-east-asian: inherit\; font-weight: inherit\; font-stretch: inherit\; font-family: inherit\; line-height: inherit\; max-height: none\; max-width: none\; min-height: initial\; min-width: initial\; opacity: 1\; outline-offset: 0px\; overflow: visible\; padding: 0px 0px 27px\; position: static\; resize: none\; table-layout: auto\; text-overflow: clip\; vertical-align: baseline\; visibility: inherit\; word-break: inherit\; overflow-wrap: inherit\; z-index: auto\; background: none rgb(250\, 250\, 250)\; border: 0px\; border-collapse: separate\; border-radius: 0px\; height: auto\; width: auto\; box-shadow: none\; outline: 0px\; -webkit-font-smoothing: subpixel-antialiased\;">&nbsp\;</p>\n
LOCATION:
UID:e.9412.3372
SEQUENCE:3
DTSTAMP:20260423T182107Z
URL:http://members.saltlakeparade.com/events/details/salt-lake-parade-of-homes-2025-3372
END:VEVENT

END:VCALENDAR
