BEGIN:VCALENDAR
VERSION:2.0
PRODID:-//ChamberMaster//Event Calendar 2.0//EN
METHOD:PUBLISH
X-PUBLISHED-TTL:P3D
REFRESH-INTERVAL:P3D
CALSCALE:GREGORIAN
BEGIN:VEVENT
DTSTART:20240802T180000Z
DTEND:20240818T030000Z
X-MICROSOFT-CDO-ALLDAYEVENT:FALSE
SUMMARY:Salt Lake Parade of Homes 2024
DESCRIPTION:It is fun hearing about our Parade as we travel across the country. Yes   across the country   because word is we do it better than anyone else! Why wouldn't we? The Salt Lake Parade of Homes  is the first in the country dating back to 1946.\n\nYes\, things have changed since then as each year we try to do something a little different or slightly better. \n\nOver the years we have had millions walk across the thresholds of our leading home designs. Member builders pride themselves on quality\, style and affordability. Come witness the innovative ideas as you dream of your new or remodeled home.\n\nAt any step of the home building process\, whether starting from scratch or adding to your existing home\; remember   our members do it best!\n\n\n\nPlease contact our Parade Director\, Eden at eden@slhba.com for details on our 2024 Parade Sponsorship Opportunities.
X-ALT-DESC;FMTTYPE=text/html:<p style="box-sizing: border-box\; margin: 0px\; font-size: 18px\; inset: auto\; clear: none\; color: rgb(103\, 103\, 103)\; content: normal\; direction: inherit\; empty-cells: show\; float: none\; font-style: inherit\; font-variant-numeric: inherit\; font-variant-east-asian: inherit\; font-weight: inherit\; font-stretch: inherit\; font-family: inherit\; line-height: inherit\; max-height: none\; max-width: none\; min-height: initial\; min-width: initial\; opacity: 1\; outline-offset: 0px\; overflow: visible\; padding: 0px 0px 27px\; position: static\; resize: none\; table-layout: auto\; text-overflow: clip\; vertical-align: baseline\; visibility: inherit\; word-break: inherit\; overflow-wrap: inherit\; z-index: auto\; background: none rgb(250\, 250\, 250)\; border: 0px\; border-collapse: separate\; border-radius: 0px\; height: auto\; width: auto\; box-shadow: none\; outline: 0px\; -webkit-font-smoothing: subpixel-antialiased\;">It is fun hearing about our Parade as we travel across the country. Yes &ndash\; across the country &ndash\; because word is we do it better than anyone else! Why wouldn&rsquo\;t we? The Salt Lake Parade of Homes&trade\; is the first in the country dating back to 1946.</p>\n\n<p style="box-sizing: border-box\; margin: 0px\; font-size: 18px\; inset: auto\; clear: none\; color: rgb(103\, 103\, 103)\; content: normal\; direction: inherit\; empty-cells: show\; float: none\; font-style: inherit\; font-variant-numeric: inherit\; font-variant-east-asian: inherit\; font-weight: inherit\; font-stretch: inherit\; font-family: inherit\; line-height: inherit\; max-height: none\; max-width: none\; min-height: initial\; min-width: initial\; opacity: 1\; outline-offset: 0px\; overflow: visible\; padding: 0px 0px 27px\; position: static\; resize: none\; table-layout: auto\; text-overflow: clip\; vertical-align: baseline\; visibility: inherit\; word-break: inherit\; overflow-wrap: inherit\; z-index: auto\; background: none rgb(250\, 250\, 250)\; border: 0px\; border-collapse: separate\; border-radius: 0px\; height: auto\; width: auto\; box-shadow: none\; outline: 0px\; -webkit-font-smoothing: subpixel-antialiased\;">Yes\, things have changed since then as each year we try to do something a little different or slightly better.&nbsp\;</p>\n\n<p style="box-sizing: border-box\; margin: 0px\; font-size: 18px\; inset: auto\; clear: none\; color: rgb(103\, 103\, 103)\; content: normal\; direction: inherit\; empty-cells: show\; float: none\; font-style: inherit\; font-variant-numeric: inherit\; font-variant-east-asian: inherit\; font-weight: inherit\; font-stretch: inherit\; font-family: inherit\; line-height: inherit\; max-height: none\; max-width: none\; min-height: initial\; min-width: initial\; opacity: 1\; outline-offset: 0px\; overflow: visible\; padding: 0px 0px 27px\; position: static\; resize: none\; table-layout: auto\; text-overflow: clip\; vertical-align: baseline\; visibility: inherit\; word-break: inherit\; overflow-wrap: inherit\; z-index: auto\; background: none rgb(250\, 250\, 250)\; border: 0px\; border-collapse: separate\; border-radius: 0px\; height: auto\; width: auto\; box-shadow: none\; outline: 0px\; -webkit-font-smoothing: subpixel-antialiased\;">Over the years we have had millions walk across the thresholds of our leading home designs. Member builders pride themselves on quality\, style and affordability. Come witness the innovative ideas as you dream of your new or remodeled home.</p>\n\n<p style="box-sizing: border-box\; margin: 0px\; font-size: 18px\; inset: auto\; clear: none\; color: rgb(103\, 103\, 103)\; content: normal\; direction: inherit\; empty-cells: show\; float: none\; font-style: inherit\; font-variant-numeric: inherit\; font-variant-east-asian: inherit\; font-weight: inherit\; font-stretch: inherit\; font-family: inherit\; line-height: inherit\; max-height: none\; max-width: none\; min-height: initial\; min-width: initial\; opacity: 1\; outline-offset: 0px\; overflow: visible\; padding: 0px\; position: static\; resize: none\; table-layout: auto\; text-overflow: clip\; vertical-align: baseline\; visibility: inherit\; word-break: inherit\; overflow-wrap: inherit\; z-index: auto\; background: none rgb(250\, 250\, 250)\; border: 0px\; border-collapse: separate\; border-radius: 0px\; height: auto\; width: auto\; box-shadow: none\; outline: 0px\; -webkit-font-smoothing: subpixel-antialiased\;">At any step of the home building process\, whether starting from scratch or adding to your existing home\; remember &ndash\; our members do it best!<br />\n<br />\nPlease contact our Parade Director\, Eden&nbsp\;at eden@slhba.com for details on our 2024 Parade Sponsorship Opportunities.&nbsp\;</p>\n
LOCATION:
UID:e.9412.2009
SEQUENCE:3
DTSTAMP:20260423T011909Z
URL:http://members.saltlakeparade.com/events/details/salt-lake-parade-of-homes-2024-2009
END:VEVENT

END:VCALENDAR
