BEGIN:VCALENDAR
VERSION:2.0
PRODID:-//ChamberMaster//Event Calendar 2.0//EN
METHOD:PUBLISH
X-PUBLISHED-TTL:P3D
REFRESH-INTERVAL:P3D
CALSCALE:GREGORIAN
BEGIN:VEVENT
DTSTART:20240924T173000Z
DTEND:20240924T190000Z
X-MICROSOFT-CDO-ALLDAYEVENT:FALSE
SUMMARY:Parade Prism Awards & Board Nomination Luncheon 2024
DESCRIPTION:Please join us for our Annual Parade of Homes Prism Awards & Board Nomination Luncheon. We will be providing lunch\, presenting Parade of Homes awards and announcing our 2025 Board of Directors.  We look forward to seeing you all there! \n\n\n\nWe would like to recognize Construction Experts\, LLC for being our Title Sponsor for this event! They just recently joined the SLHBA and we are so excited to have them involved. \n\n\n\nWe'd also like to show our appreciation for Tanner Glass & Hardware for being the Award Sponsor for the 2024 Parade of Homes! We love their team and are grateful for their dedication to the SLHBA.
X-ALT-DESC;FMTTYPE=text/html:<strong><span style="font-size: 14px\;"><span style="font-family: &quot\;times new roman&quot\;\;">Please join us for our Annual Parade of Homes Prism Awards &amp\; Board Nomination Luncheon. We will be providing lunch\, presenting Parade of Homes awards and announcing our 2025 Board of Directors.&nbsp\; We look forward to seeing you all there!&nbsp\;<br />\n<br />\nWe would like to recognize Construction Experts\, LLC for being our Title Sponsor for this event! They just recently joined the SLHBA and we are so excited to have them involved.&nbsp\;<br />\n<br />\nWe&#39\;d also like to show our appreciation for Tanner Glass &amp\; Hardware for being the Award Sponsor for the 2024 Parade of Homes! We love their team and are grateful for their dedication to the SLHBA.&nbsp\;</span></span></strong>
LOCATION:1 S. Main Street\, Salt Lake City\, UT 84133 Zions Bank- 18th Floor- Founders Room Please park in the City Creek parking garage and use the underground entrance.
UID:e.9412.3241
SEQUENCE:3
DTSTAMP:20260423T012328Z
URL:http://members.saltlakeparade.com/events/details/parade-prism-awards-board-nomination-luncheon-2024-3241
END:VEVENT

END:VCALENDAR
