BEGIN:VCALENDAR
VERSION:2.0
PRODID:-//ChamberMaster//Event Calendar 2.0//EN
METHOD:PUBLISH
X-PUBLISHED-TTL:P3D
REFRESH-INTERVAL:P3D
CALSCALE:GREGORIAN
BEGIN:VEVENT
DTSTART:20241022T213000Z
DTEND:20241022T230000Z
X-MICROSOFT-CDO-ALLDAYEVENT:FALSE
SUMMARY:Parade of Homes Committee Meeting
DESCRIPTION:Parade of Homes Committee    Lisa Smith  Chair\n\nOversees the events of the Salt Lake Parade of Homes. (There are several sub-committees within this group). \n\n \nIf you are an SLHBA Member and are interested in volunteering with the Parade Committee\, please reach out to our Parade Director at eden@slhba.com for an application.
X-ALT-DESC;FMTTYPE=text/html:<span style="font-size:16px\;"><span style="font-family:times new roman\;"><strong><u>Parade of Homes Committee &ndash\;</u></strong> <em>&nbsp\;Lisa Smith&mdash\; Chair</em><br />\n<font color="#444444">Oversees the events of the Salt Lake Parade of Homes. (There are several sub-committees within this group).&nbsp\;</font></span></span><br />\n&nbsp\;\n<p style="box-sizing: border-box\; margin: 0px 0px 10px\; font-size: 16px\; font-family: Calibri\, Verdana\, Geneva\, sans-serif\;"><span style="font-size:16px\;"><span style="font-family:times new roman\;"><strong><span style="background:white\;"><span style="color:#333333\;">If&nbsp\;you are an SLHBA Member and are interested in volunteering with the Parade Committee\,&nbsp\;please&nbsp\;reach out to our Parade Director at eden@slhba.com for an application.&nbsp\;</span></span></strong></span></span></p>\n
LOCATION:SLHBA Office 230 W Towne Ridge Pkwy Sandy\, UT
UID:e.9412.2031
SEQUENCE:3
DTSTAMP:20260423T025131Z
URL:http://members.saltlakeparade.com/events/details/parade-of-homes-committee-meeting-10-22-2024-2031
END:VEVENT

END:VCALENDAR
