BEGIN:VCALENDAR
VERSION:2.0
PRODID:-//ChamberMaster//Event Calendar 2.0//EN
METHOD:PUBLISH
X-PUBLISHED-TTL:P3D
REFRESH-INTERVAL:P3D
CALSCALE:GREGORIAN
BEGIN:VEVENT
DTSTART:20241024T150000Z
DTEND:20241025T050000Z
X-MICROSOFT-CDO-ALLDAYEVENT:FALSE
SUMMARY:New Member Breakfast- 10.2024
DESCRIPTION:NEW MEMBERS!!!\n\n\n\nCalling all new members from January 2024 to now!!\n\n\n\nJoin us on October 24th for a new member breakfast and mingling! We will have time for you to meet other members of the association\, network\, and get a foot in the door into how to get the most out of your membership.
X-ALT-DESC;FMTTYPE=text/html:NEW MEMBERS!!!<br />\n<br />\nCalling all new members from January 2024 to now!!<br />\n<br />\nJoin us on October 24th for a new member breakfast and mingling! We will have time for you to meet other members of the association\, network\, and get a foot in the door into how to get the most out of your membership.&nbsp\;
LOCATION:230 W Towne Ridge Pkwy #250 Sandy\, Ut 84070
UID:e.9412.3373
SEQUENCE:3
DTSTAMP:20260423T024500Z
URL:http://members.saltlakeparade.com/events/details/new-member-breakfast-10-2024-3373
END:VEVENT

END:VCALENDAR
