BEGIN:VCALENDAR
VERSION:2.0
PRODID:-//ChamberMaster//Event Calendar 2.0//EN
METHOD:PUBLISH
X-PUBLISHED-TTL:P3D
REFRESH-INTERVAL:P3D
CALSCALE:GREGORIAN
BEGIN:VEVENT
DTSTART:20250205T190000Z
DTEND:20250205T200000Z
X-MICROSOFT-CDO-ALLDAYEVENT:FALSE
SUMMARY:Young Professionals Committee Meeting
DESCRIPTION:Young Professionals Committee-  Alex Cross  \n\n(1st Wednesday of every month)\n\nThis committee focuses on the engagement\, and recruitment of Builders\, Associate\, and Affiliate members under the age of 45.  We focus on helping meet the needs of younger members\, such as developing new services that would be beneficial to the organization in serving the needs of the young professional members.  To enhance and develop the member experience as it relates to younger members.  To generate insight on current programming including mentoring\, leadership training and entrepreneurial and general education of emerging industry professionals.
X-ALT-DESC;FMTTYPE=text/html:<span style="font-size: 14px\;"><span style="font-family: arial\;"><strong><u>Young Professionals Committee-&nbsp\;</u></strong><em>&nbsp\;Alex Cross&nbsp\;&nbsp\;</em><br />\n<strong>(1<sup>st</sup>&nbsp\;Wednesday of every month)</strong></span></span><br />\n<span style="font-size:12px\;"><span style="font-family:arial\;"><span style="font-size:14px\;">This committee focuses on the engagement\, and recruitment of Builders\, Associate\, and Affiliate members under the age of 45.&nbsp\; We focus on helping meet the needs of younger members\, such as developing new services that would be beneficial to the organization in serving the needs of the young professional members.&nbsp\; To enhance and develop the member experience as it relates to younger members.&nbsp\; To generate insight on current programming including mentoring\, leadership training and entrepreneurial and general education of emerging industry professionals.&nbsp\;</span></span></span>
LOCATION:Salt Lake Home Builders Association 230 W Towne Ridge Pkwy\, Ste 250 Sandy\, UT 84070 Sandy\, UT 84070
UID:e.9412.1853
SEQUENCE:3
DTSTAMP:20260423T103722Z
URL:http://members.saltlakeparade.com/events/details/monthly-committee-meetings-02-05-2025-1853
END:VEVENT

END:VCALENDAR
