BEGIN:VCALENDAR
VERSION:2.0
PRODID:-//ChamberMaster//Event Calendar 2.0//EN
METHOD:PUBLISH
X-PUBLISHED-TTL:P3D
REFRESH-INTERVAL:P3D
CALSCALE:GREGORIAN
BEGIN:VEVENT
DTSTART:20240806T180000Z
DTEND:20240806T190000Z
X-MICROSOFT-CDO-ALLDAYEVENT:FALSE
SUMMARY:Membership Committee Meeting
DESCRIPTION:Membership Committee-  Jessica Guymon & Sarah Christensen  \n\n\n\n(1st Tuesday of every month)\n\n\n\nThe Membership Committee of the Salt Lake Home Builders Association is focused on building a strong\, engaged membership base. This committee designs and implements programs aimed at retaining current members and actively recruiting new ones. By providing a welcoming experience for each new member\, the committee ensures they are informed of the full range of membership benefits\, resources\, and networking opportunities. Through ongoing engagement and support\, the Membership Committee strengthens member connections within the Association\, fostering a vibrant\, collaborative community that advances the home building industry.
X-ALT-DESC;FMTTYPE=text/html:<p class="cvGsUA direction-ltr align-start para-style-body" style="color: rgb(33\, 31\, 28)\; font-family: &quot\;YACgEUFdPdA 0&quot\;\, _fb_\, auto\; --cyV3ZQ: 15.1319px\; --gJPlXQ: 1.4\; letter-spacing: 0.05em\; line-height: 21px\;"><span style="font-family:arial\;"><strong><u>Membership Committee-&nbsp\;</u></strong><em>&nbsp\;Jessica Guymon &amp\; Sarah Christensen&nbsp\;&nbsp\;</em><br />\n<br />\n<strong>(1<sup>st</sup>&nbsp\;Tuesday of every month)</strong><br />\n<br />\n<span style="font-size:14px\;">The Membership Committee of the Salt Lake Home Builders Association is focused on building a strong\, engaged membership base. This committee designs and implements programs aimed at retaining current members and actively recruiting new ones. By providing a welcoming experience for each new member\, the committee ensures they are informed of the full range of membership benefits\, resources\, and networking opportunities. Through ongoing engagement and support\, the Membership Committee strengthens member connections within the Association\, fostering a vibrant\, collaborative community that advances the home building industry.</span></span></p>\n
LOCATION:Salt Lake Home Builders Association 230 W Towne Ridge Pkwy\, Ste 250 Sandy\, UT 84070
UID:e.9412.2308
SEQUENCE:3
DTSTAMP:20260423T000030Z
URL:http://members.saltlakeparade.com/events/details/membership-committee-meeting-08-06-2024-2308
END:VEVENT

END:VCALENDAR
