BEGIN:VCALENDAR
VERSION:2.0
PRODID:-//ChamberMaster//Event Calendar 2.0//EN
METHOD:PUBLISH
X-PUBLISHED-TTL:P3D
REFRESH-INTERVAL:P3D
CALSCALE:GREGORIAN
BEGIN:VEVENT
DTSTART:20250204T190000Z
DTEND:20250204T200000Z
X-MICROSOFT-CDO-ALLDAYEVENT:FALSE
SUMMARY:Membership Committee Meeting
DESCRIPTION:Membership Committee-  Jessica Guymon & Sarah Christensen  \n\n(1st Tuesday of every month)\n\nThis committee develops and implements\, coordinates and assists with programs to help retain current members of the Association and recruit new members. The committee is responsible for meeting with each new member of the Association and educating them on their benefits of membership.
X-ALT-DESC;FMTTYPE=text/html:<p class="cvGsUA direction-ltr align-start para-style-body" style="color: rgb(33\, 31\, 28)\; font-family: &quot\;YACgEUFdPdA 0&quot\;\, _fb_\, auto\; --cyV3ZQ: 15.1319px\; --gJPlXQ: 1.4\; letter-spacing: 0.05em\; line-height: 21px\;"><span style="font-family: arial\;"><strong><u>Membership Committee-&nbsp\;</u></strong><em>&nbsp\;Jessica Guymon &amp\; Sarah Christensen&nbsp\;&nbsp\;</em><br />\n<strong>(1<sup>st</sup>&nbsp\;Tuesday of every month)</strong><br />\n<span class="OYPEnA text-decoration-none text-strikethrough-none" style="font-style: italic\;">This committee develops and implements\, coordinates and assists with programs to help retain<span class="OYPEnA text-decoration-none text-strikethrough-none white-space-prewrap" style="font-style: italic\;"> </span>current members of the Association and recruit new members. The committee is responsible for meeting with each new member of the Association and educating them on their benefits of membership.</span></span></p>\n
LOCATION:Salt Lake Home Builders Association 230 W Towne Ridge Pkwy\, Ste 250 Sandy\, UT 84070
UID:e.9412.2314
SEQUENCE:3
DTSTAMP:20260423T104521Z
URL:http://members.saltlakeparade.com/events/details/membership-committee-meeting-02-04-2025-2314
END:VEVENT

END:VCALENDAR
