BEGIN:VCALENDAR
VERSION:2.0
PRODID:-//ChamberMaster//Event Calendar 2.0//EN
METHOD:PUBLISH
X-PUBLISHED-TTL:P3D
REFRESH-INTERVAL:P3D
CALSCALE:GREGORIAN
BEGIN:VEVENT
DTSTART:20240923T204500Z
DTEND:20240923T214500Z
X-MICROSOFT-CDO-ALLDAYEVENT:FALSE
SUMMARY:Meet & Greet with John Curtis 2024
DESCRIPTION:The SLHBA has a meeting scheduled with John Curtis on Monday\, September 23rd at 2:45 PM at the Utah HBA office. As he is likely to be our next senator\, I am personally inviting you to attend this Meet & Greet.\n\n\n\nIt is crucial for you to understand that your membership and PAC contributions empower us to interact with top-level policymakers. THIS IS A BENEFIT OF MEMBERSHIP! The SLHBA and Utah HBA have your best interests at heart\, and as a united membership\, we wield significant influence and have the connections to make a real difference. Your participation is vital to our collective success. I hope you will join us!
X-ALT-DESC;FMTTYPE=text/html:<div style="border: 0px\; font-variant-numeric: inherit\; font-variant-east-asian: inherit\; font-variant-alternates: inherit\; font-variant-position: inherit\; font-stretch: inherit\; font-size: 12pt\; line-height: var(--cib-type-body1-line-height)\; font-family: Aptos\, Aptos_EmbeddedFont\, Aptos_MSFontService\, Calibri\, Helvetica\, sans-serif\; font-optical-sizing: inherit\; font-size-adjust: inherit\; font-kerning: inherit\; font-feature-settings: inherit\; font-variation-settings: inherit\; margin: 8px 0px 0px\; padding: 0px\; vertical-align: baseline\; color: rgb(0\, 0\, 0)\;">The SLHBA has a meeting scheduled with John Curtis on Monday\, September 23rd at 2:45 PM at the Utah HBA office. As he is likely to be our next senator\, I am personally inviting you to attend this Meet &amp\; Greet.<br />\n<br />\nIt is crucial for you to understand that your membership and PAC contributions empower us to interact with top-level policymakers.&nbsp\;<strong>THIS IS A BENEFIT OF MEMBERSHIP!</strong>&nbsp\;The SLHBA and Utah HBA have your best interests at heart\, and as a united membership\, we wield significant influence and have the connections to make a real difference.&nbsp\;<strong>Your participation is vital to our collective success.</strong>&nbsp\;I hope you will join us!</div>\n
LOCATION:Utah HBA Offices 38 West 13775 South\, Suite 120 Draper\, UT 84020
UID:e.9412.3371
SEQUENCE:3
DTSTAMP:20260423T012059Z
URL:http://members.saltlakeparade.com/events/details/meet-greet-with-john-curtis-2024-3371
END:VEVENT

END:VCALENDAR
