BEGIN:VCALENDAR
VERSION:2.0
PRODID:-//ChamberMaster//Event Calendar 2.0//EN
METHOD:PUBLISH
X-PUBLISHED-TTL:P3D
REFRESH-INTERVAL:P3D
CALSCALE:GREGORIAN
BEGIN:VEVENT
DTSTART:20241021T180000Z
DTEND:20241021T190000Z
X-MICROSOFT-CDO-ALLDAYEVENT:FALSE
SUMMARY:Meet & Greet with Congresswoman Celeste Maloy 2024
DESCRIPTION:Join us for a Meet & Greet with Congresswoman Celeste Maloy! This is your chance to meet her\, ask questions\, and learn about her position on home building.\n\n\n\nCongresswoman Maloy\, representing Utah's 2nd Congressional District\, currently serves on the House Small Business Committee and House Transportation and Infrastructure Committee.\n\n\n\nCeleste began her public service career as a soil conservationist for ten years before going on to earn her law degree from Brigham Young University and becoming a deputy Washington County attorney. She also served as a public land's attorney for the Utah Association of Counties and a staff attorney for the Washington County Water Conservancy District. Most recently\, she served as Chief Legal Counsel to former Representative Chris Stewart.\n\n\n\nSLHBA membership and PAC contributions are vital\, enabling us to engage with top-level policymakers. This is a key benefit of your membership! The SLHBA and Utah HBA are dedicated to your best interests. Together\, we have the influence and connections to make a significant impact. Your participation is vital to our collective success. We look forward to seeing you there!
X-ALT-DESC;FMTTYPE=text/html:<p><span style="font-size:12px\;"><span style="font-family:arial\;">Join us for a Meet &amp\; Greet&nbsp\;with Congresswoman Celeste Maloy! This is your chance to meet her\, ask questions\, and learn about her position on home building.<br style="font-family: &quot\;times new roman&quot\;\; font-size: 14px\;" />\n<br style="font-family: &quot\;times new roman&quot\;\; font-size: 14px\;" />\nCongresswoman Maloy\, representing Utah&rsquo\;s 2nd Congressional District\, currently serves on the House Small Business Committee and House Transportation and Infrastructure Committee.<br />\n<br />\nCeleste began her public service career as a soil conservationist for ten years&nbsp\;before going on to earn her law degree from Brigham Young University and becoming&nbsp\;a deputy&nbsp\;Washington County attorney. She also served as a public land&#39\;s attorney for the Utah Association of Counties and a staff attorney for the Washington County Water Conservancy District. Most recently\, she served as Chief Legal Counsel to former Representative Chris Stewart.<br style="font-family: &quot\;times new roman&quot\;\; font-size: 14px\;" />\n<br style="font-family: &quot\;times new roman&quot\;\; font-size: 14px\;" />\nSLHBA membership and PAC contributions are vital\, enabling us to engage with top-level policymakers. This is a key benefit of your membership! The SLHBA and Utah HBA are dedicated to your best interests. Together\, we have the influence and connections to make a significant impact. Your participation is vital to our collective success. We look forward to seeing you there!</span></span></p>\n
LOCATION:Best Western Plus Cotton Tree Inn\, 1030 N 400 E\, North Salt Lake City\, UT 84054
UID:e.9412.3388
SEQUENCE:3
DTSTAMP:20260423T024623Z
URL:http://members.saltlakeparade.com/events/details/meet-greet-with-congresswoman-celeste-maloy-2024-3388
END:VEVENT

END:VCALENDAR
