BEGIN:VCALENDAR
VERSION:2.0
PRODID:-//ChamberMaster//Event Calendar 2.0//EN
METHOD:PUBLISH
X-PUBLISHED-TTL:P3D
REFRESH-INTERVAL:P3D
CALSCALE:GREGORIAN
BEGIN:VEVENT
DTSTART:20241015T213000Z
DTEND:20241015T223000Z
X-MICROSOFT-CDO-ALLDAYEVENT:FALSE
SUMMARY:Meet & Greet with Congressman Burgess Owens 2024
DESCRIPTION:Join us for a Meet & Greet with Congressman Burgess Owens! This is your chance to meet your congressman\, ask questions\, and learn about his position on home building.\n\n\n\nCongressman Owens\, representing Utah's Fourth Congressional District\, currently serves on the House Education and the Workforce Committee and the House Transportation and Infrastructure Committee. He had a successful career in the NFL\, playing for the New York Jets and the Oakland Raiders\, and winning a Super Bowl with the Raiders in 1980. He believes in the guiding principles of faith\, family\, free markets\, and education.\n\n\n\nSLHBA membership and PAC contributions are vital\, enabling us to engage with top-level policymakers. This is a key benefit of your membership! The SLHBA and Utah HBA are dedicated to your best interests. Together\, we have the influence and connections to make a significant impact. Your participation is vital to our collective success. We look forward to seeing you there!
X-ALT-DESC;FMTTYPE=text/html:<span style="font-size:14px\;"><span style="font-family:times new roman\;">Join us for a Meet &amp\; Greet with Congressman Burgess Owens! This is your chance to meet your congressman\, ask questions\, and learn about his position on home building.<br />\n<br />\nCongressman Owens\, representing Utah&rsquo\;s Fourth Congressional District\, currently serves on the House Education and the Workforce Committee and the House Transportation and Infrastructure Committee. He had a successful career in the NFL\, playing for the New York Jets and the Oakland Raiders\, and winning a Super Bowl with the Raiders in 1980. He believes in the guiding principles of faith\, family\, free markets\, and education.<br />\n<br />\nSLHBA membership and PAC contributions are vital\, enabling us to engage with top-level policymakers. This is a key benefit of your membership! The SLHBA and Utah HBA are dedicated to your best interests. Together\, we have the influence and connections to make a significant impact. Your participation is vital to our collective success. We look forward to seeing you there!</span></span>
LOCATION:Salt Lake Home Builders Association Office\, 230 W Town Ridge Pkwy Ste #250\, Sandy\, UT 84070
UID:e.9412.3387
SEQUENCE:3
DTSTAMP:20260423T024807Z
URL:http://members.saltlakeparade.com/events/details/meet-greet-with-congressman-burgess-owens-2024-3387
END:VEVENT

END:VCALENDAR
