BEGIN:VCALENDAR
VERSION:2.0
PRODID:-//ChamberMaster//Event Calendar 2.0//EN
METHOD:PUBLISH
X-PUBLISHED-TTL:P3D
REFRESH-INTERVAL:P3D
CALSCALE:GREGORIAN
BEGIN:VEVENT
DTSTART;VALUE=DATE:20250225
DTEND;VALUE=DATE:20250228
TRANSP:TRANSPARENT
X-MICROSOFT-CDO-ALLDAYEVENT:TRUE
SUMMARY:International Builder's Show (IBS)
DESCRIPTION:About IBS\n\nThe NAHB International Builders' Show  (IBS) is the largest annual light construction show in the world. The 2024 show welcomed 76\,000+ visitors from more than 100 countries.\n\n\n\nWill We See You in Vegas?\n\nThe next big idea. The strategies and trends. The products\, connections and experts you won't see anywhere else. It's all HERE at the in-person show in Las Vegas!\n\n\n\nThe NAHB International Builders' Show  (IBS) the premier\, once-a-year event that connects\, educates and improves the residential construction industry is a hub for new product launches\, construction demos\, industry thought leader sessions\, workshops\, panel discussions and more. The people\, products and knowledge you'll gain will give you the real ideas and real solutions you need to grow and strengthen your essential business.\n\n\n\nSupport the Industry! \n\nhe National Association of Home Builders (NAHB) manages and organizes the Builders' Show. NAHB represents 140\,000+ members and is the voice for housing policies to make housing a priority.\n\n\n\nWhen you attend IBS\, you help NAHB support and shape the housing agenda and enrich communities across the United States.
X-ALT-DESC;FMTTYPE=text/html:<br />\n<strong>About IBS</strong><br />\nThe NAHB International Builders&#39\; Show&reg\; (IBS) is the largest annual light construction show in the world. The 2024 show welcomed 76\,000+ visitors from more than 100 countries.<br />\n<br />\n<strong>Will We See You in Vegas?</strong><br />\nThe next big idea. The strategies and trends. The products\, connections and experts you won&rsquo\;t see anywhere else. It&rsquo\;s all HERE at the in-person show in Las Vegas!<br />\n<br />\nThe NAHB International Builders&#39\; Show&reg\; (IBS)&mdash\;the premier\, once-a-year event that connects\, educates and improves the residential construction industry&mdash\;is a hub for new product launches\, construction demos\, industry thought leader sessions\, workshops\, panel discussions&hellip\;and more. The people\, products and knowledge you&rsquo\;ll gain will give you the real ideas and real solutions you need to grow and strengthen your essential business.<br />\n<br />\n<strong>Support the Industry!&nbsp\;</strong><br />\nhe National Association of Home Builders (NAHB) manages and organizes the Builders&#39\; Show. NAHB represents 140\,000+ members and is the voice for housing policies to make housing a priority.<br />\n<br />\nWhen you attend IBS\, <a href="https://www.buildersshow.com/support-the-industry" onclick="window.open(this.href\, ''\, 'resizable=no\,status=no\,location=no\,toolbar=no\,menubar=no\,fullscreen=no\,scrollbars=no\,dependent=no')\; return false\;">you help NAHB support and shape the housing agenda </a>and enrich communities across the United States.<br />\n<br />\n&nbsp\;
LOCATION:Las Vegas Convention Center (LVCC) 3150 Paradise Drive Las Vegas\, NV 89103
UID:e.9412.3786
SEQUENCE:3
DTSTAMP:20260423T103412Z
URL:http://members.saltlakeparade.com/events/details/international-builder-s-show-ibs-3786
END:VEVENT

END:VCALENDAR
