BEGIN:VCALENDAR
VERSION:2.0
PRODID:-//ChamberMaster//Event Calendar 2.0//EN
METHOD:PUBLISH
X-PUBLISHED-TTL:P3D
REFRESH-INTERVAL:P3D
CALSCALE:GREGORIAN
BEGIN:VEVENT
DTSTART:20241212T010000Z
DTEND:20241212T040000Z
X-MICROSOFT-CDO-ALLDAYEVENT:FALSE
SUMMARY:Inaugural Holiday Gala 2024
DESCRIPTION:Register today for our Annual Inaugural Holiday Gala! We can't wait to celebrate our members\, welcome our 2025 Board of Directors\, and dance the night away!
X-ALT-DESC;FMTTYPE=text/html:Register today for our Annual Inaugural Holiday Gala! We can&#39\;t wait to celebrate our members\, welcome our 2025 Board of Directors\, and dance the night away!
LOCATION:Zions Bank Head Office - 18th Floor Founders Room 1 S Main St\, Salt Lake City
UID:e.9412.3369
SEQUENCE:3
DTSTAMP:20260423T060331Z
URL:http://members.saltlakeparade.com/events/details/inaugural-holiday-gala-2024-3369
END:VEVENT

END:VCALENDAR
