BEGIN:VCALENDAR
VERSION:2.0
PRODID:-//ChamberMaster//Event Calendar 2.0//EN
METHOD:PUBLISH
X-PUBLISHED-TTL:P3D
REFRESH-INTERVAL:P3D
CALSCALE:GREGORIAN
BEGIN:VEVENT
DTSTART:20240710T140000Z
DTEND:20240822T190000Z
X-MICROSOFT-CDO-ALLDAYEVENT:FALSE
SUMMARY:HomeAid Utah Diaper Drive 2024- Donations
DESCRIPTION:Salt Lake HBA is teaming up with SunPro to build this years diaper house. We are accepting donations for diapers up until the event on August 23rd. Help support the families in need by donating.\n\n\n\nTo donate to the diaper fund Purchase a ticket (or several) and the money will be applied to diaper purchases. \n\n\n\nHomeAid Utah will be collecting diapers\, wipes and formula to be distributed through the Utah Diaper Bank.
X-ALT-DESC;FMTTYPE=text/html:Salt Lake HBA is teaming up with SunPro to build this years diaper house. We are accepting donations for diapers up until the event on August 23rd. Help support the families in need by donating.<br />\n<br />\n<strong>To donate to the diaper fund Purchase a ticket (or several) and the money will be applied to diaper purchases.&nbsp\;</strong><br />\n<br />\nHomeAid Utah will be collecting diapers\, wipes and formula to be distributed through the Utah Diaper Bank.&nbsp\;
LOCATION:IKEA Parking Lot
UID:e.9412.3238
SEQUENCE:3
DTSTAMP:20260422T223306Z
URL:http://members.saltlakeparade.com/events/details/homeaid-utah-diaper-drive-2024-donations-3238
END:VEVENT

END:VCALENDAR
