BEGIN:VCALENDAR
VERSION:2.0
PRODID:-//ChamberMaster//Event Calendar 2.0//EN
METHOD:PUBLISH
X-PUBLISHED-TTL:P3D
REFRESH-INTERVAL:P3D
CALSCALE:GREGORIAN
BEGIN:VEVENT
DTSTART:20250909T180000Z
DTEND:20250909T193000Z
X-MICROSOFT-CDO-ALLDAYEVENT:FALSE
SUMMARY:Government Affairs Committee Meeting
DESCRIPTION:Governmental Affairs Committee - Sean Steinman\, Resonance Development\, Chair\n\nThis committee gathers and distributes information about\, and assists with\, regulatory and legislative issues at the county and municipal levels that affect Association members. Activities may include contacting elected and appointed officials\, lobbying\, and testifying at meetings.
X-ALT-DESC;FMTTYPE=text/html:<p><br />\n<strong><u>Governmental Affairs Committee</u></strong>&nbsp\;-&nbsp\;Sean Steinman\, Resonance Development\, Chair</p>\n\n<p>This committee gathers and distributes information about\, and assists with\, regulatory and legislative issues at the county and municipal levels that affect Association members. Activities may include contacting elected and appointed officials\, lobbying\, and testifying at meetings.</p>\n
LOCATION:
UID:e.9412.3807
SEQUENCE:3
DTSTAMP:20260423T195409Z
URL:http://members.saltlakeparade.com/events/details/government-affairs-committee-meeting-3807
END:VEVENT

END:VCALENDAR
