BEGIN:VCALENDAR
VERSION:2.0
PRODID:-//ChamberMaster//Event Calendar 2.0//EN
METHOD:PUBLISH
X-PUBLISHED-TTL:P3D
REFRESH-INTERVAL:P3D
CALSCALE:GREGORIAN
BEGIN:VEVENT
DTSTART:20241009T180000Z
DTEND:20241009T190000Z
X-MICROSOFT-CDO-ALLDAYEVENT:FALSE
SUMMARY:Government Affairs Committee Meeting
DESCRIPTION:Governmental Affairs Committee - Sean Steinman\, Resonance Development\, Chair\n\n(2nd Wednesday of every month)\n\nThis committee gathers and distributes information about\, and assists with\, regulatory and legislative issues at the county and municipal levels that affect Association members. Activities may include contacting elected and appointed officials\, lobbying\, and testifying at meetings.
X-ALT-DESC;FMTTYPE=text/html:<p><span style="font-size:14px\;"><span style="font-family:arial\;"><strong><u>Governmental Affairs Committee</u></strong>&nbsp\;-&nbsp\;Sean Steinman\, Resonance Development\, Chair</span></span></p>\n\n<p><span style="font-size:14px\;"><span style="font-family:arial\;">(2nd Wednesday of every month)</span></span></p>\n\n<p><span style="font-size:14px\;"><span style="font-family:arial\;">This committee gathers and distributes information about\, and assists with\, regulatory and legislative issues at the county and municipal levels that affect Association members. Activities may include contacting elected and appointed officials\, lobbying\, and testifying at meetings.</span></span></p>\n
LOCATION:Salt Lake Home Builders Association 230 W. Towne Ridge Pkwy\, Ste 250 Sandy\, UT 84070
UID:e.9412.3244
SEQUENCE:3
DTSTAMP:20260423T042545Z
URL:http://members.saltlakeparade.com/events/details/government-affairs-committee-meeting-10-09-2024-3244
END:VEVENT

END:VCALENDAR
