BEGIN:VCALENDAR
VERSION:2.0
PRODID:-//ChamberMaster//Event Calendar 2.0//EN
METHOD:PUBLISH
X-PUBLISHED-TTL:P3D
REFRESH-INTERVAL:P3D
CALSCALE:GREGORIAN
BEGIN:VEVENT
DTSTART:20250813T180000Z
DTEND:20250813T193000Z
X-MICROSOFT-CDO-ALLDAYEVENT:FALSE
SUMMARY:Government Affairs Committee
DESCRIPTION:Government Affairs Committee - Sean Steinman\, Chair\n\n\n\nThis committee gathers and distributes information about\, and assists with\, regulatory and legislative issues at the county and municipal levels that affect Association members. Activities may include contacting elected and appointed officials\, lobbying\, and testifying at meetings.\n\n\n\nThis month's lunch is sponsored by: Wasatch Preferred\, Mark Reese - Thank you!
X-ALT-DESC;FMTTYPE=text/html:<br />\n<strong><u>Government Affairs Committee</u></strong> - <em>Sean Steinman</em>\, Chair<br />\n<br />\nThis committee gathers and distributes information about\, and assists with\, regulatory and legislative issues at the county and municipal levels that affect Association members. Activities may include contacting elected and appointed officials\, lobbying\, and testifying at meetings.<br />\n<br />\n<span style="color: rgb(68\, 68\, 68)\;">This month&#39\;s lunch is sponsored by: Wasatch Preferred\, Mark Reese - Thank you!</span>
LOCATION:
UID:e.9412.3765
SEQUENCE:3
DTSTAMP:20260423T182314Z
URL:http://members.saltlakeparade.com/events/details/government-affairs-committee-08-13-2025-3765
END:VEVENT

END:VCALENDAR
