BEGIN:VCALENDAR
VERSION:2.0
PRODID:-//ChamberMaster//Event Calendar 2.0//EN
METHOD:PUBLISH
X-PUBLISHED-TTL:P3D
REFRESH-INTERVAL:P3D
CALSCALE:GREGORIAN
BEGIN:VEVENT
DTSTART:20260917T210000Z
DTEND:20260917T223000Z
X-MICROSOFT-CDO-ALLDAYEVENT:FALSE
SUMMARY:General Membership Meeting - Board Nominations for 2027
DESCRIPTION:
X-ALT-DESC;FMTTYPE=text/html:
LOCATION:Salt Lake Board of Realtors - Sundance Room
UID:e.9412.3938
SEQUENCE:3
DTSTAMP:20260424T153039Z
URL:http://members.saltlakeparade.com/events/details/general-membership-meeting-board-nominations-for-2027-3938
END:VEVENT

END:VCALENDAR
