BEGIN:VCALENDAR
VERSION:2.0
PRODID:-//ChamberMaster//Event Calendar 2.0//EN
METHOD:PUBLISH
X-PUBLISHED-TTL:P3D
REFRESH-INTERVAL:P3D
CALSCALE:GREGORIAN
BEGIN:VEVENT
DTSTART:20240618T173000Z
DTEND:20240618T190000Z
X-MICROSOFT-CDO-ALLDAYEVENT:FALSE
SUMMARY:General Membership Meeting- 6/18/24
DESCRIPTION:GUEST SPEAKER: Ross Ford\n\nSpeaking about legislative updates & forecasts that will impact your business. Builders... you won't want to miss this!\n\n\n\nWe would love to see you there to network\, grow your business and learn about information pertaining to growing your business.
X-ALT-DESC;FMTTYPE=text/html:<div>\n<p><u>GUEST SPEAKER: Ross Ford</u><br />\nSpeaking about legislative updates &amp\; forecasts that will impact your business. <u>Builders... you won&#39\;t want to miss this!</u><br />\n<br />\nWe would love to see you there to network\, grow your business and learn about information pertaining to growing your business.&nbsp\;</p>\n</div>\n
LOCATION:SLHBA - 230 W Towne Ridge Pkwy\, Sandy\, UT 84070 First Floor - Alta Room
UID:e.9412.2024
SEQUENCE:3
DTSTAMP:20260422T210337Z
URL:http://members.saltlakeparade.com/events/details/general-membership-meeting-6-18-24-2024
END:VEVENT

END:VCALENDAR
