BEGIN:VCALENDAR
VERSION:2.0
PRODID:-//ChamberMaster//Event Calendar 2.0//EN
METHOD:PUBLISH
X-PUBLISHED-TTL:P3D
REFRESH-INTERVAL:P3D
CALSCALE:GREGORIAN
BEGIN:VEVENT
DTSTART:20240521T173000Z
DTEND:20240521T183000Z
X-MICROSOFT-CDO-ALLDAYEVENT:FALSE
SUMMARY:General Membership Meeting-5/21/2024
DESCRIPTION:We're bringing back General Membership Meetings! This will be a chance to network with 400+ industry professionals and enjoy lunch with your colleagues. New members will have an opportunity to introduce themselves and their company.
X-ALT-DESC;FMTTYPE=text/html:We&#39\;re bringing back General Membership Meetings! This will be a chance to network with 400+ industry professionals and enjoy lunch with your colleagues. New members will have an opportunity to introduce themselves and their company.&nbsp\;
LOCATION:SLHBA - 230 W Towne Ridge Pkwy\, Sandy\, UT 84070 First Floor - Alta Room
UID:e.9412.2019
SEQUENCE:3
DTSTAMP:20260422T194435Z
URL:http://members.saltlakeparade.com/events/details/general-membership-meeting-5-21-2024-2019
END:VEVENT

END:VCALENDAR
