BEGIN:VCALENDAR
VERSION:2.0
PRODID:-//ChamberMaster//Event Calendar 2.0//EN
METHOD:PUBLISH
X-PUBLISHED-TTL:P3D
REFRESH-INTERVAL:P3D
CALSCALE:GREGORIAN
BEGIN:VEVENT
DTSTART:20250108T183000Z
DTEND:20250108T203000Z
X-MICROSOFT-CDO-ALLDAYEVENT:FALSE
SUMMARY:Economic Forecast presented by Dr. Elliot Eisenberg Ph.D ~ The Bowtie Economist 2025
DESCRIPTION:Often called the "Stand-up Economist"\, acclaimed economic expert\, Elliot Eisenberg\, uniquely specializes in making the arcana and minutiae of economics entertaining and relevant.  With expertise and consultation sought-out by federal\, state and local governments and legislators\, hedge funds and investment advisory groups\, Dr. Eisenberg is an established authority on the national and global economy and its impact on various industries.  Formerly a senior economist with the National Association of Home Builders\, he is an expert on the economic impacts of industries such as homebuilding and tourism and the consequences of government regulation.\n\n\n\nWith a finger on the pulse of current trends and issues\, Elliot tailors presentations to include up-to-the minute economic news and information. \n\n\n\nElliot has a unique\, comical style that makes economics entertaining and accessible to all audiences. Check out his website at https://econ70.com/about-elliot/.
X-ALT-DESC;FMTTYPE=text/html:<span style="font-family:times new roman\;"><span style="font-size: 14px\;">Often called the &quot\;Stand-up Economist&quot\;\, acclaimed economic expert\, Elliot Eisenberg\, uniquely specializes in making the arcana and minutiae of economics entertaining and relevant.&nbsp\; With expertise and consultation sought-out by federal\, state and local governments and legislators\, hedge funds and investment advisory groups\, Dr. Eisenberg is an established authority on the national and global economy and its impact on various industries.&nbsp\; Formerly a senior economist with the National Association of Home Builders\, he is an expert on the economic impacts of industries such as homebuilding and tourism and the consequences of government regulation.</span><br style="font-family: arial\; font-size: 14px\;" />\n<br style="font-family: arial\; font-size: 14px\;" />\n<span style="font-size: 14px\;">With a finger on the pulse of current trends and issues\, Elliot tailors presentations to include up-to-the minute economic news and information.&nbsp\;</span><br style="font-family: arial\; font-size: 14px\;" />\n<br style="font-family: arial\; font-size: 14px\;" />\n<span style="font-size: 14px\;">Elliot has a unique\, comical style that makes economics entertaining and accessible to all audiences. Check out his website at&nbsp\;</span></span><a href="https://econ70.com/about-elliot/">https://econ70.com/about-elliot/</a>.
LOCATION:Zions Bank Technology Center 7910 Bingham Jct Blvd\, Midvale
UID:e.9412.3386
SEQUENCE:3
DTSTAMP:20260423T074431Z
URL:http://members.saltlakeparade.com/events/details/economic-forecast-presented-by-dr-elliot-eisenberg-ph-d-the-bowtie-economist-2025-3386
END:VEVENT

END:VCALENDAR
