BEGIN:VCALENDAR
VERSION:2.0
PRODID:-//ChamberMaster//Event Calendar 2.0//EN
METHOD:PUBLISH
X-PUBLISHED-TTL:P3D
REFRESH-INTERVAL:P3D
CALSCALE:GREGORIAN
BEGIN:VEVENT
DTSTART:20241010T180000Z
DTEND:20241010T190000Z
X-MICROSOFT-CDO-ALLDAYEVENT:FALSE
SUMMARY:Community Service Committee Meeting 2025
DESCRIPTION:Community Service Committee-  Russ Wakefiled   \n\n\n\n(2nd Thursday of every month)\n\n\n\nThe Community Service Committee of the Salt Lake Home Builders Association leads the organization's charitable initiatives. This committee drives community engagement\, offering meaningful volunteer opportunities that allow the public to support and collaborate with the Association. In addition to overseeing charitable efforts\, the committee helps bring the Salt Lake Parade of Homes  to life\, fostering a stronger connection between the home building industry and the broader community.
X-ALT-DESC;FMTTYPE=text/html:<p class="cvGsUA direction-ltr align-start para-style-body" style="color: rgb(33\, 31\, 28)\; font-family: &quot\;YACgEUFdPdA 0&quot\;\, _fb_\, auto\; --cyV3ZQ: 15.1319px\; --gJPlXQ: 1.4\; letter-spacing: 0.05em\; line-height: 21px\;"><span style="font-size:14px\;"><strong style="font-family: arial\; font-size: 14px\;"><u>Community Service Committee-&nbsp\;</u></strong><em style="font-family: arial\; font-size: 14px\;">&nbsp\;Russ Wakefiled&nbsp\; &nbsp\;</em><br />\n<br style="font-family: arial\; font-size: 14px\;" />\n<strong style="font-family: arial\; font-size: 14px\;">(2nd&nbsp\;Thursday of every month)</strong><br />\n<br />\n<span style="font-family:arial\;">The Community Service Committee of the Salt Lake Home</span></span> <span style="font-size:14px\;"><span style="font-family:arial\;">Builders Association leads the organization&rsquo\;s charitable initiatives. This committee drives community engagement\, offering meaningful volunteer opportunities that allow the public to support and collaborate with the Association. In addition to overseeing charitable efforts\, the committee helps bring the Salt Lake Parade of Homes&trade\; to life\,&nbsp\;fostering a stronger connection between the home building industry and the broader community.&nbsp\;</span></span></p>\n
LOCATION:Salt Lake Home Builders Association 230 W Towne Ridge Pkwy\, Ste 250 Sandy\, UT 84070
UID:e.9412.2705
SEQUENCE:3
DTSTAMP:20260423T024706Z
URL:http://members.saltlakeparade.com/events/details/community-service-committee-meeting-10-10-2024-2705
END:VEVENT

END:VCALENDAR
