BEGIN:VCALENDAR
VERSION:2.0
PRODID:-//ChamberMaster//Event Calendar 2.0//EN
METHOD:PUBLISH
X-PUBLISHED-TTL:P3D
REFRESH-INTERVAL:P3D
CALSCALE:GREGORIAN
BEGIN:VEVENT
DTSTART:20250814T180000Z
DTEND:20250814T190000Z
X-MICROSOFT-CDO-ALLDAYEVENT:FALSE
SUMMARY:Community Service Committee Meeting
DESCRIPTION:Community Service Committee-  Russ Wakefiled   \n\n(2nd Thursday of every month)\n\nThis Community Service Committee oversees the charitable arm and activities of the Salt Lake Home Builders Association (most notably the Salt Lake Valley Habitat for Humanity Blitz Build). The committee provides opportunities for the community-at-large to be involved with the Association\, and assists with the implementation of the Salt Lake Parade of Homes?. The Public Relations Committee assists with the development\, implementation and coordination of programs and projects that promote the Salt Lake Home Builders Association and the home building industry.
X-ALT-DESC;FMTTYPE=text/html:<p class="cvGsUA direction-ltr align-start para-style-body" style="color: rgb(33\, 31\, 28)\; font-family: &quot\;YACgEUFdPdA 0&quot\;\, _fb_\, auto\; --cyV3ZQ: 15.1319px\; --gJPlXQ: 1.4\; letter-spacing: 0.05em\; line-height: 21px\;"><span style="font-size:14px\;"><strong style="font-family: arial\; font-size: 14px\;"><u>Community Service Committee-&nbsp\;</u></strong><em style="font-family: arial\; font-size: 14px\;">&nbsp\;Russ Wakefiled&nbsp\; &nbsp\;</em><br style="font-family: arial\; font-size: 14px\;" />\n<strong style="font-family: arial\; font-size: 14px\;">(2nd&nbsp\;Thursday of every month)</strong><br style="font-family: arial\; font-size: 14px\;" />\n<span style="font-family:arial\;"><span class="OYPEnA text-decoration-none text-strikethrough-none" style="font-style: italic\;">This Community Service Committee oversees the charitable arm and activities of the Salt Lake Home Builders Association (most notably the Salt Lake Valley Habitat for Humanity Blitz Build). The committee provides opportunities for the community-at-large to be involved with the Association\, and assists with the implementation of the Salt Lake Parade of Homes?. The Public Relations Committee assists with the development\, implementation and coordination of programs and projects that promote the Salt Lake Home Builders Association and the home building industry.</span></span></span></p>\n
LOCATION:441 W. 12300 S. Draper. It is in the Draper Gateway complex. When you turn into the complex take the first right and it is the second business on the left
UID:e.9412.2715
SEQUENCE:3
DTSTAMP:20260423T195409Z
URL:http://members.saltlakeparade.com/events/details/community-service-committee-meeting-08-14-2025-2715
END:VEVENT

END:VCALENDAR
