BEGIN:VCALENDAR
VERSION:2.0
PRODID:-//ChamberMaster//Event Calendar 2.0//EN
METHOD:PUBLISH
X-PUBLISHED-TTL:P3D
REFRESH-INTERVAL:P3D
CALSCALE:GREGORIAN
BEGIN:VEVENT
DTSTART:20251110T160000Z
DTEND:20251110T223000Z
X-MICROSOFT-CDO-ALLDAYEVENT:FALSE
SUMMARY:CE Class- Technology In Construction & Effective Communication- 11.10.25
DESCRIPTION:Class Name: Technology In Construction & Effective Communication\n\n\n\nTechnology In Construction \n\nExplore how artificial intelligence is transforming the way businesses operate. This course offers practical insights into using AI to boost efficiency\, enhance decision-making\, and the role of cybersecurity in an AI-driven world.  Discover real-world applications and actionable strategies to stay competitive in today's fast-changing landscape.\n\n\n\nEffective Communication\n\nExplore strategies for handling difficult conversations\, resolving conflicts\, and managing\n\nexpectations in professional and personal settings.\n\nTo register for this class\, please click the link and register through the Utah HBA webiste. https://utahhba.enrollware.com/enroll?id=12025354
X-ALT-DESC;FMTTYPE=text/html:<span style="font-size:16px\;"><strong>Class Name: </strong></span>Technology In Construction &amp\; Effective Communication<br />\n<br />\nTechnology In Construction&nbsp\;<br />\nExplore how artificial intelligence is transforming the way businesses operate. This course offers practical insights into using AI to boost efficiency\, enhance decision-making\, and the role of cybersecurity in an AI-driven world.&nbsp\; Discover real-world applications and actionable strategies to stay competitive in today&rsquo\;s fast-changing landscape.<br />\n<br />\nEffective Communication<br />\nExplore strategies for handling difficult conversations\, resolving conflicts\, and managing<br />\nexpectations in professional and personal settings.<br />\n<span style="color:#0000CD\;"><strong>To register for this class\, please click the link and register through the Utah HBA webiste.&nbsp\;</strong></span><span style="box-sizing: border-box\; font-weight: 700\; color: rgb(85\, 85\, 85)\; font-family: Arial\, Helvetica\, sans-serif\; background-color: rgb(240\, 240\, 240)\;"><a href="https://utahhba.enrollware.com/enroll?id=12025354" id="mainContent_directLink" style="box-sizing: border-box\; background-color: transparent\; color: rgb(187\, 0\, 0)\; text-decoration-line: none\; transition: color 0.12s ease-out\;" target="_blank">https://utahhba.enrollware.com/enroll?id=12025354</a></span>
LOCATION:230 W. Towne Ridge Pkwy #250 Sandy\, UT 84070
UID:e.9412.3828
SEQUENCE:3
DTSTAMP:20260423T230944Z
URL:http://members.saltlakeparade.com/events/details/ce-class-technology-in-construction-effective-communication-11-10-25-3828
END:VEVENT

END:VCALENDAR
