BEGIN:VCALENDAR
VERSION:2.0
PRODID:-//ChamberMaster//Event Calendar 2.0//EN
METHOD:PUBLISH
X-PUBLISHED-TTL:P3D
REFRESH-INTERVAL:P3D
CALSCALE:GREGORIAN
BEGIN:VEVENT
DTSTART:20251124T160000Z
DTEND:20251124T223000Z
X-MICROSOFT-CDO-ALLDAYEVENT:FALSE
SUMMARY:CE Class- Technology In Construction & Clear Talk Saves Costs- 11.24.25
DESCRIPTION:Class Name: Technology In Construction & Clear Talk Saves Costs\n\n\n\nTechnology In Construction\n\nExplore how artificial intelligence is transforming the way businesses operate. This course offers practical insights into using AI to boost efficiency\, enhance decision-making\, and the role of cybersecurity in an AI-driven world.  Discover real-world applications and actionable strategies to stay competitive in today's fast-changing landscape.\n\n\n\nClear Talk Saves Costs\n\nTired of repeating yourself or running into blank stares? This class helps you master tricky conversations by understanding different communication styles and learning how to adjust your approach. You'll explore how to redirect confusion\, reduce conflict\, and connect more clearly.\n\nTo register for this class\, please click the link and register through the Utah HBA webiste. https://utahhba.enrollware.com/enroll?id=12024947
X-ALT-DESC;FMTTYPE=text/html:<span style="font-size:16px\;"><strong>Class Name: </strong></span>Technology In Construction &amp\; Clear Talk Saves Costs<br />\n<br />\nTechnology In Construction<br />\nExplore how artificial intelligence is transforming the way businesses operate. This course offers practical insights into using AI to boost efficiency\, enhance decision-making\, and the role of cybersecurity in an AI-driven world.&nbsp\; Discover real-world applications and actionable strategies to stay competitive in today&rsquo\;s fast-changing landscape.<br />\n<br />\nClear Talk Saves Costs<br />\nTired of repeating yourself or running into blank stares? This class helps you master tricky conversations by understanding different communication styles and learning how to adjust your approach. You&#39\;ll explore how to redirect confusion\, reduce conflict\, and connect more clearly.<br />\n<span style="color:#0000CD\;"><strong>To register for this class\, please click the link and register through the Utah HBA webiste.&nbsp\;</strong></span><span style="box-sizing: border-box\; font-weight: 700\; color: rgb(85\, 85\, 85)\; font-family: Arial\, Helvetica\, sans-serif\; background-color: rgb(240\, 240\, 240)\;"><a href="https://utahhba.enrollware.com/enroll?id=12024947" id="mainContent_directLink" style="box-sizing: border-box\; background-color: transparent\; color: rgb(187\, 0\, 0)\; text-decoration-line: none\; transition: color 0.12s ease-out\;" target="_blank">https://utahhba.enrollware.com/enroll?id=12024947</a></span>
LOCATION:230 W. Towne Ridge Pkwy #250 Sandy\, UT 84070
UID:e.9412.3832
SEQUENCE:3
DTSTAMP:20260423T231118Z
URL:http://members.saltlakeparade.com/events/details/ce-class-technology-in-construction-clear-talk-saves-costs-11-24-25-3832
END:VEVENT

END:VCALENDAR
