BEGIN:VCALENDAR
VERSION:2.0
PRODID:-//ChamberMaster//Event Calendar 2.0//EN
METHOD:PUBLISH
X-PUBLISHED-TTL:P3D
REFRESH-INTERVAL:P3D
CALSCALE:GREGORIAN
BEGIN:VEVENT
DTSTART:20250417T150000Z
DTEND:20250417T213000Z
X-MICROSOFT-CDO-ALLDAYEVENT:FALSE
SUMMARY:CE Class- Technology in Construction - 4.17.25
DESCRIPTION:Class Name: Technology in Construction & Mastering the Business of Contracting\n\n\n\nLearn how to navigate the complexities of AI\, VR\, &amp\; cyber security.\n\n\n\nThis class addresses the core pillars of business: Profitability\, Marketing\, Sales\, Productivity\, Employee Management\, and Growth and Scaling.\n\n\n\nTo register for this class\, please click the link and register through the Utah HBA webiste. https://utahhba.enrollware.com/enroll?id=10817455
X-ALT-DESC;FMTTYPE=text/html:<span style="font-size:16px\;"><strong>Class Name: Technology in Construction &amp\;&nbsp\;Mastering the Business of Contracting</strong></span><br />\n<br />\nLearn how to navigate the complexities of AI\, VR\, &amp\;amp\; cyber security.<br />\n<br />\nThis class addresses the core pillars of business: Profitability\, Marketing\, Sales\, Productivity\, Employee Management\, and Growth and Scaling.<br />\n<br />\n<span style="color:#0000CD\;"><strong>To register for this class\, please click the link and register through the Utah HBA webiste.&nbsp\;</strong></span><span style="box-sizing: border-box\; font-weight: 700\; color: rgb(85\, 85\, 85)\; font-family: Arial\, Helvetica\, sans-serif\; background-color: rgb(240\, 240\, 240)\;"><a href="https://utahhba.enrollware.com/enroll?id=10817455" id="mainContent_directLink" style="box-sizing: border-box\; background-color: transparent\; color: rgb(187\, 0\, 0)\; text-decoration-line: none\; transition: color 0.12s ease-out\;" target="_blank">https://utahhba.enrollware.com/enroll?id=10817455</a></span>
LOCATION:230 W. Towne Ridge Pkwy #250 Sandy\, UT 84070
UID:e.9412.3776
SEQUENCE:3
DTSTAMP:20260423T120324Z
URL:http://members.saltlakeparade.com/events/details/ce-class-technology-in-construction-4-17-25-3776
END:VEVENT

END:VCALENDAR
