BEGIN:VCALENDAR
VERSION:2.0
PRODID:-//ChamberMaster//Event Calendar 2.0//EN
METHOD:PUBLISH
X-PUBLISHED-TTL:P3D
REFRESH-INTERVAL:P3D
CALSCALE:GREGORIAN
BEGIN:VEVENT
DTSTART:20250421T150000Z
DTEND:20250421T213000Z
X-MICROSOFT-CDO-ALLDAYEVENT:FALSE
SUMMARY:CE Class- Successful Remodels - 4.21.25
DESCRIPTION:Class Name: Successful Remodels & Magnetize Your Business\n\n\n\nThis course covers how to get paid for your expertise in design\, estimating\, and pre-construction phases of remodels. It includes a guide to accurate estimating\, creating a smooth construction process\, integrating energy efficiency\, and managing the final 5% of a project during job closeout. \n\n\n\nThis course teaches contracting business owners how to focus on key tasks for daily operations\, including managing customer relationships\, maximizing profits\, and systemizing marketing. It also covers leadership skills\, effective CEO practices\, and strategies for business growth.\n\n\n\nTo register for this class\, please click the link and register through the Utah HBA webiste. https://utahhba.enrollware.com/enroll?id=10817527
X-ALT-DESC;FMTTYPE=text/html:<span style="font-size:16px\;"><strong>Class Name: Successful Remodels &amp\; Magnetize Your Business</strong></span><br />\n<br />\nThis course covers how to get paid for your expertise in design\, estimating\, and pre-construction phases of remodels. It includes a guide to accurate estimating\, creating a smooth construction process\, integrating energy efficiency\, and managing the final 5% of a project during job closeout.&nbsp\;<br />\n<br />\nThis course teaches contracting business owners how to focus on key tasks for daily operations\, including managing customer relationships\, maximizing profits\, and systemizing marketing. It also covers leadership skills\, effective CEO practices\, and strategies for business growth.<br />\n<br />\n<span style="color:#0000CD\;"><strong>To register for this class\, please click the link and register through the Utah HBA webiste.&nbsp\;</strong></span><span style="box-sizing: border-box\; font-weight: 700\; color: rgb(85\, 85\, 85)\; font-family: Arial\, Helvetica\, sans-serif\; background-color: rgb(240\, 240\, 240)\;"><a href="https://utahhba.enrollware.com/enroll?id=10817527" id="mainContent_directLink" style="box-sizing: border-box\; background-color: transparent\; color: rgb(187\, 0\, 0)\; text-decoration-line: none\; transition: color 0.12s ease-out\;" target="_blank">https://utahhba.enrollware.com/enroll?id=10817527</a></span>
LOCATION:230 W. Towne Ridge Pkwy #250 Sandy\, UT 84070
UID:e.9412.3777
SEQUENCE:3
DTSTAMP:20260423T120420Z
URL:http://members.saltlakeparade.com/events/details/ce-class-successful-remodels-4-21-25-3777
END:VEVENT

END:VCALENDAR
