BEGIN:VCALENDAR
VERSION:2.0
PRODID:-//ChamberMaster//Event Calendar 2.0//EN
METHOD:PUBLISH
X-PUBLISHED-TTL:P3D
REFRESH-INTERVAL:P3D
CALSCALE:GREGORIAN
BEGIN:VEVENT
DTSTART:20251119T160000Z
DTEND:20251119T223000Z
X-MICROSOFT-CDO-ALLDAYEVENT:FALSE
SUMMARY:CE Class- QuickBooks Basics & Mastering the Business of Contracting- 11.19.25
DESCRIPTION:Class Name: QuickBooks Basics & Mastering the Business of Contracting\n\n\n\nQuickBooks Basics\n\nThis course is for those who are new to Quickbooks &amp\; the accounting process. Learn how to set your company up in Quickbooks &amp\; understand the reporting it will provide for you.\n\n\n\n Mastering the Business of Contracting\n\nThis class addresses the core pillars of business: Profitability\, Marketing\, Sales\, Productivity\, Employee Management\, and Growth and Scaling.\n\nTo register for this class\, please click the link and register through the Utah HBA webiste. https://utahhba.enrollware.com/enroll?id=12025524
X-ALT-DESC;FMTTYPE=text/html:<span style="font-size:16px\;"><strong>Class Name: </strong></span>QuickBooks Basics &amp\; Mastering the Business of Contracting<br />\n<br />\nQuickBooks Basics<br />\nThis course is for those who are new to Quickbooks &amp\;amp\; the accounting process. Learn how to set your company up in Quickbooks &amp\;amp\; understand the reporting it will provide for you.<br />\n<br />\n&nbsp\;Mastering the Business of Contracting<br />\nThis class addresses the core pillars of business: Profitability\, Marketing\, Sales\, Productivity\, Employee Management\, and Growth and Scaling.<br />\n<span style="color:#0000CD\;"><strong>To register for this class\, please click the link and register through the Utah HBA webiste.&nbsp\;</strong></span><span style="box-sizing: border-box\; font-weight: 700\; color: rgb(85\, 85\, 85)\; font-family: Arial\, Helvetica\, sans-serif\; background-color: rgb(240\, 240\, 240)\;"><a href="https://utahhba.enrollware.com/enroll?id=12025524" id="mainContent_directLink" style="box-sizing: border-box\; background-color: transparent\; color: rgb(187\, 0\, 0)\; text-decoration-line: none\; transition: color 0.12s ease-out\;" target="_blank">https://utahhba.enrollware.com/enroll?id=12025524</a></span>
LOCATION:230 W. Towne Ridge Pkwy #250 Sandy\, UT 84070
UID:e.9412.3830
SEQUENCE:3
DTSTAMP:20260423T231841Z
URL:http://members.saltlakeparade.com/events/details/ce-class-quickbooks-basics-mastering-the-business-of-contracting-11-19-25-3830
END:VEVENT

END:VCALENDAR
