BEGIN:VCALENDAR
VERSION:2.0
PRODID:-//ChamberMaster//Event Calendar 2.0//EN
METHOD:PUBLISH
X-PUBLISHED-TTL:P3D
REFRESH-INTERVAL:P3D
CALSCALE:GREGORIAN
BEGIN:VEVENT
DTSTART:20250416T150000Z
DTEND:20250416T213000Z
X-MICROSOFT-CDO-ALLDAYEVENT:FALSE
SUMMARY:CE Class- QuickBooks Basics & Effective Communication - 7.15.25
DESCRIPTION:Class Name: QuickBooks Basics & Effective Communication\n\n\n\nThis course is for those who are new to QuickBooks &amp\; the accounting process. Learn how to set your company up in QuickBooks &amp\; understand the reporting it will provide for you.\n\n\n\nExplore strategies for handling difficult conversations\, resolving conflicts\, and managing expectations in professional and personal settings.\n\n\n\nTo register for this class\, please click the link and register through the Utah HBA webiste. https://utahhba.enrollware.com/enroll?id=11496289
X-ALT-DESC;FMTTYPE=text/html:<span style="font-size:16px\;"><strong>Class Name: </strong></span>QuickBooks Basics &amp\; Effective Communication<br />\n<br />\nThis course is for those who are new to QuickBooks &amp\;amp\; the accounting process. Learn how to set your company up in QuickBooks &amp\;amp\; understand the reporting it will provide for you.<br />\n<br />\nExplore strategies for handling difficult conversations\, resolving conflicts\, and managing expectations in professional and personal settings.<br />\n<br />\n<span style="color:#0000CD\;"><strong>To register for this class\, please click the link and register through the Utah HBA webiste.&nbsp\;</strong></span><span style="box-sizing: border-box\; font-weight: 700\; color: rgb(85\, 85\, 85)\; font-family: Arial\, Helvetica\, sans-serif\; background-color: rgb(240\, 240\, 240)\;"><a href="https://utahhba.enrollware.com/enroll?id=11496289" id="mainContent_directLink" style="box-sizing: border-box\; background-color: transparent\; color: rgb(187\, 0\, 0)\; text-decoration-line: none\; transition: color 0.12s ease-out\;" target="_blank">https://utahhba.enrollware.com/enroll?id=11496289</a></span>
LOCATION:230 W. Towne Ridge Pkwy #250 Sandy\, UT 84070
UID:e.9412.3810
SEQUENCE:3
DTSTAMP:20260423T120322Z
URL:http://members.saltlakeparade.com/events/details/ce-class-quickbooks-basics-effective-communication-7-15-25-3810
END:VEVENT

END:VCALENDAR
