BEGIN:VCALENDAR
VERSION:2.0
PRODID:-//ChamberMaster//Event Calendar 2.0//EN
METHOD:PUBLISH
X-PUBLISHED-TTL:P3D
REFRESH-INTERVAL:P3D
CALSCALE:GREGORIAN
BEGIN:VEVENT
DTSTART:20250515T150000Z
DTEND:20250515T213000Z
X-MICROSOFT-CDO-ALLDAYEVENT:FALSE
SUMMARY:CE Class- Profitable Growth - 5.15.25
DESCRIPTION:Class Name: Profitable Growth & Top Performing Teams\n\n\n\nThis course equips you with the what\, why &amp\; when of advertising strategies\; audience targeting\, ethical marketing\, physical/print marketing\, &amp\; obtaining leads without spending money.\n\n\n\nThis course teaches construction business practices for building high-performing teams\, focusing on effective hiring\, training\, and safety protocols. It emphasizes clear communication strategies to improve project management and ensure compliance with codes and laws.\n\n\n\nTo register for this class\, please click the link and register through the Utah HBA webiste. https://utahhba.enrollware.com/enroll?id=10817471
X-ALT-DESC;FMTTYPE=text/html:<span style="font-size:16px\;"><strong>Class Name: Profitable Growth &amp\; Top Performing Teams</strong></span><br />\n<br />\nThis course equips you with the what\, why &amp\;amp\; when of advertising strategies\; audience targeting\, ethical marketing\, physical/print marketing\, &amp\;amp\; obtaining leads without spending money.<br />\n<br />\nThis course teaches construction business practices for building high-performing teams\, focusing on effective hiring\, training\, and safety protocols. It emphasizes clear communication strategies to improve project management and ensure compliance with codes and laws.<br />\n<br />\n<span style="color:#0000CD\;"><strong>To register for this class\, please click the link and register through the Utah HBA webiste.&nbsp\;</strong></span><span style="box-sizing: border-box\; font-weight: 700\; color: rgb(85\, 85\, 85)\; font-family: Arial\, Helvetica\, sans-serif\; background-color: rgb(240\, 240\, 240)\;"><a href="https://utahhba.enrollware.com/enroll?id=10817471" id="mainContent_directLink" style="box-sizing: border-box\; background-color: transparent\; color: rgb(187\, 0\, 0)\; text-decoration-line: none\; transition: color 0.12s ease-out\;" target="_blank">https://utahhba.enrollware.com/enroll?id=10817471</a></span>
LOCATION:230 W. Towne Ridge Pkwy #250 Sandy\, UT 84070
UID:e.9412.3778
SEQUENCE:3
DTSTAMP:20260423T133255Z
URL:http://members.saltlakeparade.com/events/details/ce-class-profitable-growth-5-15-25-3778
END:VEVENT

END:VCALENDAR
