BEGIN:VCALENDAR
VERSION:2.0
PRODID:-//ChamberMaster//Event Calendar 2.0//EN
METHOD:PUBLISH
X-PUBLISHED-TTL:P3D
REFRESH-INTERVAL:P3D
CALSCALE:GREGORIAN
BEGIN:VEVENT
DTSTART:20250926T150000Z
DTEND:20250926T213000Z
X-MICROSOFT-CDO-ALLDAYEVENT:FALSE
SUMMARY:CE Class- Effective Communication & Top Performing Teams - 9.26.25
DESCRIPTION:Class Name: Effective Communication & Top Performing Teams\n\n\n\nExplore strategies for handling difficult conversations\, resolving conflicts\, and managing expectations in professional and personal settings.\n\n\n\nThis course teaches construction business practices for building high-performing teams\,\n\nfocusing on effective hiring\, training\, and safety protocols.\n\n\n\nTo register for this class\, please click the link and register through the Utah HBA webiste. https://utahhba.enrollware.com/enroll?id=11543603
X-ALT-DESC;FMTTYPE=text/html:<span style="font-size:16px\;"><strong>Class Name: </strong></span>Effective Communication &amp\; Top Performing Teams<br />\n<br />\nExplore strategies for handling difficult conversations\, resolving conflicts\, and managing expectations in professional and personal settings.<br />\n<br />\nThis course teaches construction business practices for building high-performing teams\,<br />\nfocusing on effective hiring\, training\, and safety protocols.<br />\n<br />\n<span style="color:#0000CD\;"><strong>To register for this class\, please click the link and register through the Utah HBA webiste.&nbsp\;</strong></span><span style="box-sizing: border-box\; font-weight: 700\; color: rgb(85\, 85\, 85)\; font-family: Arial\, Helvetica\, sans-serif\; background-color: rgb(240\, 240\, 240)\;"><a href="https://utahhba.enrollware.com/enroll?id=11543603" id="mainContent_directLink" style="box-sizing: border-box\; background-color: transparent\; color: rgb(187\, 0\, 0)\; text-decoration-line: none\; transition: color 0.12s ease-out\;" target="_blank">https://utahhba.enrollware.com/enroll?id=11543603</a></span>
LOCATION:230 W. Towne Ridge Pkwy #250 Sandy\, UT 84070
UID:e.9412.3816
SEQUENCE:3
DTSTAMP:20260423T213240Z
URL:http://members.saltlakeparade.com/events/details/ce-class-effective-communication-top-performing-teams-9-26-25-3816
END:VEVENT

END:VCALENDAR
