BEGIN:VCALENDAR
VERSION:2.0
PRODID:-//ChamberMaster//Event Calendar 2.0//EN
METHOD:PUBLISH
X-PUBLISHED-TTL:P3D
REFRESH-INTERVAL:P3D
CALSCALE:GREGORIAN
BEGIN:VEVENT
DTSTART:20250915T150000Z
DTEND:20250915T213000Z
X-MICROSOFT-CDO-ALLDAYEVENT:FALSE
SUMMARY:CE Class- Effective Communication & QuickBooks Basics - 9.15.25
DESCRIPTION:Class Name: Effective Communication & QuickBooks Basics\n\n\n\nExplore strategies for handling difficult conversations\, resolving conflicts\, and managing expectations in professional and personal settings.\n\n\n\nDesigned for those new to QuickBooks\, this course teaches you how to set up your company and understand the key reports that help track your business finances.\n\n\n\nTo register for this class\, please click the link and register through the Utah HBA webiste. https://utahhba.enrollware.com/enroll?id=11543478
X-ALT-DESC;FMTTYPE=text/html:<span style="font-size:16px\;"><strong>Class Name: </strong></span>Effective Communication &amp\; QuickBooks Basics<br />\n<br />\nExplore strategies for handling difficult conversations\, resolving conflicts\, and managing expectations in professional and personal settings.<br />\n<br />\nDesigned for those new to QuickBooks\, this course teaches you how to set up your company and understand the key reports that help track your business finances.<br />\n<br />\n<span style="color:#0000CD\;"><strong>To register for this class\, please click the link and register through the Utah HBA webiste.&nbsp\;</strong></span><span style="box-sizing: border-box\; font-weight: 700\; color: rgb(85\, 85\, 85)\; font-family: Arial\, Helvetica\, sans-serif\; background-color: rgb(240\, 240\, 240)\;"><a href="https://utahhba.enrollware.com/enroll?id=11543478" id="mainContent_directLink" style="box-sizing: border-box\; background-color: transparent\; color: rgb(187\, 0\, 0)\; text-decoration-line: none\; transition: color 0.12s ease-out\;" target="_blank">https://utahhba.enrollware.com/enroll?id=11543478</a></span>
LOCATION:230 W. Towne Ridge Pkwy #250 Sandy\, UT 84070
UID:e.9412.3814
SEQUENCE:3
DTSTAMP:20260423T213235Z
URL:http://members.saltlakeparade.com/events/details/ce-class-effective-communication-quickbooks-basics-9-15-25-3814
END:VEVENT

END:VCALENDAR
