BEGIN:VCALENDAR
VERSION:2.0
PRODID:-//ChamberMaster//Event Calendar 2.0//EN
METHOD:PUBLISH
X-PUBLISHED-TTL:P3D
REFRESH-INTERVAL:P3D
CALSCALE:GREGORIAN
BEGIN:VEVENT
DTSTART:20250929T150000Z
DTEND:20250929T213000Z
X-MICROSOFT-CDO-ALLDAYEVENT:FALSE
SUMMARY:CE Class- Dynamic Marketing & Innovative Project Management - 9.29.25
DESCRIPTION:Class Name: Dynamic Marketing & Innovative Project Management\n\n\n\nLearn where to focus your marketing efforts and how to make it effective.\n\n\n\nThis course teaches efficient construction project management\, covering time\n\nmanagement\, accountability\, leadership\, and best practices for profitability and quality control.\n\nTo register for this class\, please click the link and register through the Utah HBA webiste. https://utahhba.enrollware.com/enroll?id=11543621
X-ALT-DESC;FMTTYPE=text/html:<span style="font-size:16px\;"><strong>Class Name: </strong></span>Dynamic Marketing &amp\; Innovative Project Management<br />\n<br />\nLearn where to focus your marketing efforts and how to make it effective.<br />\n<br />\nThis course teaches efficient construction project management\, covering time<br />\nmanagement\, accountability\, leadership\, and best practices for profitability and quality control.<br />\n<span style="color:#0000CD\;"><strong>To register for this class\, please click the link and register through the Utah HBA webiste.&nbsp\;</strong></span><span style="box-sizing: border-box\; font-weight: 700\; color: rgb(85\, 85\, 85)\; font-family: Arial\, Helvetica\, sans-serif\; background-color: rgb(240\, 240\, 240)\;"><a href="https://utahhba.enrollware.com/enroll?id=11543621" id="mainContent_directLink" style="box-sizing: border-box\; background-color: transparent\; color: rgb(187\, 0\, 0)\; text-decoration-line: none\; transition: color 0.12s ease-out\;" target="_blank">https://utahhba.enrollware.com/enroll?id=11543621</a></span>
LOCATION:230 W. Towne Ridge Pkwy #250 Sandy\, UT 84070
UID:e.9412.3817
SEQUENCE:3
DTSTAMP:20260423T195029Z
URL:http://members.saltlakeparade.com/events/details/ce-class-dynamic-marketing-innovative-project-management-9-29-25-3817
END:VEVENT

END:VCALENDAR
