BEGIN:VCALENDAR
VERSION:2.0
PRODID:-//ChamberMaster//Event Calendar 2.0//EN
METHOD:PUBLISH
X-PUBLISHED-TTL:P3D
REFRESH-INTERVAL:P3D
CALSCALE:GREGORIAN
BEGIN:VEVENT
DTSTART:20250908T150000Z
DTEND:20250908T213000Z
X-MICROSOFT-CDO-ALLDAYEVENT:FALSE
SUMMARY:CE Class- Can AI Make Your Construction Company Better? & Cutting Edge Contracts - 9.8.25
DESCRIPTION:Class Name: Can AI Make Your Construction Company Better? & Cutting Edge Contracts\n\n\n\nThis course teaches how AI is revolutionizing the construction industry by improving project management\, communication\, safety\, and code compliance.\n\n\n\nWe'll explore the legal principles and language that safeguard you\, your business\, and your peace of mind while ensuring you get paid for your work.\n\n\n\nTo register for this class\, please click the link and register through the Utah HBA webiste. https://utahhba.enrollware.com/enroll?id=11543383
X-ALT-DESC;FMTTYPE=text/html:<span style="font-size:16px\;"><strong>Class Name: </strong></span>Can AI Make Your Construction Company Better? &amp\; Cutting Edge Contracts<br />\n<br />\nThis course teaches how AI is revolutionizing the construction industry by improving project management\, communication\, safety\, and code compliance.<br />\n<br />\nWe&rsquo\;ll explore the legal principles and language that safeguard you\, your business\, and your peace of mind while ensuring you get paid for your work.<br />\n<br />\n<span style="color:#0000CD\;"><strong>To register for this class\, please click the link and register through the Utah HBA webiste.&nbsp\;</strong></span><span style="box-sizing: border-box\; font-weight: 700\; color: rgb(85\, 85\, 85)\; font-family: Arial\, Helvetica\, sans-serif\; background-color: rgb(240\, 240\, 240)\;"><a href="https://utahhba.enrollware.com/enroll?id=11543383" id="mainContent_directLink" style="box-sizing: border-box\; background-color: transparent\; color: rgb(187\, 0\, 0)\; text-decoration-line: none\; transition: color 0.12s ease-out\;" target="_blank">https://utahhba.enrollware.com/enroll?id=11543383</a></span>
LOCATION:230 W. Towne Ridge Pkwy #250 Sandy\, UT 84070
UID:e.9412.3813
SEQUENCE:3
DTSTAMP:20260423T195221Z
URL:http://members.saltlakeparade.com/events/details/ce-class-can-ai-make-your-construction-company-better-cutting-edge-contracts-9-8-25-3813
END:VEVENT

END:VCALENDAR
