BEGIN:VCALENDAR
VERSION:2.0
PRODID:-//ChamberMaster//Event Calendar 2.0//EN
METHOD:PUBLISH
X-PUBLISHED-TTL:P3D
REFRESH-INTERVAL:P3D
CALSCALE:GREGORIAN
BEGIN:VEVENT
DTSTART:20250324T150000Z
DTEND:20250324T213000Z
X-MICROSOFT-CDO-ALLDAYEVENT:FALSE
SUMMARY:CE Class- Avoiding\, Resolving\, & Winning Construction Litigation & Dynamic Marketing - 6.23.25
DESCRIPTION:Class Name: Avoiding\, Resolving\, & Winning Construction Litigation  & Dynamic Marketing\n\n\n\nThis is course is taught by an attorney who deals with Construction litigation. Learn what you need to do throughout a project to insure you can get paid for the work that you do.\n\n\n\nLearn where to focus your marketing efforts and how to make it effective.\n\n\n\nTo register for this class\, please click the link and register through the Utah HBA webiste. https://utahhba.enrollware.com/enroll?id=11132829
X-ALT-DESC;FMTTYPE=text/html:<span style="font-size:16px\;"><strong>Class Name: </strong></span>Avoiding\, Resolving\, &amp\; Winning Construction Litigation&nbsp\; &amp\; Dynamic Marketing<br />\n<br />\nThis is course is taught by an attorney who deals with Construction litigation. Learn what you need to do throughout a project to insure you can get paid for the work that you do.<br />\n<br />\nLearn where to focus your marketing efforts and how to make it effective.<br />\n<br />\n<span style="color:#0000CD\;"><strong>To register for this class\, please click the link and register through the Utah HBA webiste.&nbsp\;</strong></span><span style="box-sizing: border-box\; font-weight: 700\; color: rgb(85\, 85\, 85)\; font-family: Arial\, Helvetica\, sans-serif\; background-color: rgb(240\, 240\, 240)\;"><a href="https://utahhba.enrollware.com/enroll?id=11132829" id="mainContent_directLink" style="box-sizing: border-box\; background-color: transparent\; color: rgb(187\, 0\, 0)\; text-decoration-line: none\; transition: color 0.12s ease-out\;" target="_blank">https://utahhba.enrollware.com/enroll?id=11132829</a></span>
LOCATION:230 W. Towne Ridge Pkwy #250 Sandy\, UT 84070
UID:e.9412.3802
SEQUENCE:3
DTSTAMP:20260423T120228Z
URL:http://members.saltlakeparade.com/events/details/ce-class-avoiding-resolving-winning-construction-litigation-dynamic-marketing-6-23-25-3802
END:VEVENT

END:VCALENDAR
