BEGIN:VCALENDAR
VERSION:2.0
PRODID:-//ChamberMaster//Event Calendar 2.0//EN
METHOD:PUBLISH
X-PUBLISHED-TTL:P3D
REFRESH-INTERVAL:P3D
CALSCALE:GREGORIAN
BEGIN:VEVENT
DTSTART:20240608T160000Z
DTEND:20240608T210000Z
X-MICROSOFT-CDO-ALLDAYEVENT:FALSE
SUMMARY:Car Show 2024
DESCRIPTION:Please join us at the Car Show presented by the Utah Home Builders Association. Free entry - Donations to Children's Service Society of Utah accepted
X-ALT-DESC;FMTTYPE=text/html:Please join us at the Car Show presented by the Utah Home Builders Association. Free entry - Donations to Children&#39\;s Service Society of Utah accepted&nbsp\;
LOCATION:Utah Home Builders Association 38 W 13775 S\, Draper
UID:e.9412.2018
SEQUENCE:3
DTSTAMP:20260422T210041Z
URL:http://members.saltlakeparade.com/events/details/car-show-2024-2018
END:VEVENT

END:VCALENDAR
