BEGIN:VCALENDAR
VERSION:2.0
PRODID:-//ChamberMaster//Event Calendar 2.0//EN
METHOD:PUBLISH
X-PUBLISHED-TTL:P3D
REFRESH-INTERVAL:P3D
CALSCALE:GREGORIAN
BEGIN:VEVENT
DTSTART:20240423T140000Z
DTEND:20240423T190000Z
X-MICROSOFT-CDO-ALLDAYEVENT:FALSE
SUMMARY:Business Owner's Forum 2024
DESCRIPTION:We are so excited for our upcoming General Membership "Business Owner's Forum" to be held on April 23rd. We anticipate 200 decision-makers will attend across the homebuilding industry for this half-day event. It will take place at our offices in the Realtor Building and feature phenomenal speakers and teachers addressing topics surrounding this year's theme\, "How To More Successfully Navigate Working With Governments."\n\n\n\nCONTRACTORS needing CE for License Renewal   Being a member of the SLHBA you receive your Continuing Education AT NO COST.
X-ALT-DESC;FMTTYPE=text/html:<span style="color: rgb(111\, 114\, 135)\; font-family: &quot\;Neue Plak&quot\;\, -apple-system\, BlinkMacSystemFont\, Roboto\, &quot\;Helvetica Neue&quot\;\, Helvetica\, Tahoma\, Arial\, sans-serif\; font-size: 16px\;">We are so excited for our upcoming General Membership &ldquo\;Business Owner&rsquo\;s Forum&rdquo\; to be held on April 23rd. We anticipate 200 decision-makers will attend across the homebuilding industry for this half-day event. It will take place at our offices in the Realtor Building and feature phenomenal speakers and teachers addressing topics surrounding this year&rsquo\;s theme\, &ldquo\;How To More Successfully Navigate Working With Governments.&rdquo\;</span><br />\n<br />\n<span style="font-weight: 700\; box-sizing: border-box\; padding-top: 0px\; color: rgb(111\, 114\, 135)\; font-family: &quot\;Neue Plak&quot\;\, -apple-system\, BlinkMacSystemFont\, Roboto\, &quot\;Helvetica Neue&quot\;\, Helvetica\, Tahoma\, Arial\, sans-serif\; font-size: 16px\;">CONTRACTORS&nbsp\;</span><span style="color: rgb(111\, 114\, 135)\; font-family: &quot\;Neue Plak&quot\;\, -apple-system\, BlinkMacSystemFont\, Roboto\, &quot\;Helvetica Neue&quot\;\, Helvetica\, Tahoma\, Arial\, sans-serif\; font-size: 16px\;">needing CE for License Renewa</span><span style="font-weight: 700\; box-sizing: border-box\; color: rgb(111\, 114\, 135)\; font-family: &quot\;Neue Plak&quot\;\, -apple-system\, BlinkMacSystemFont\, Roboto\, &quot\;Helvetica Neue&quot\;\, Helvetica\, Tahoma\, Arial\, sans-serif\; font-size: 16px\;">l</span><span style="color: rgb(111\, 114\, 135)\; font-family: &quot\;Neue Plak&quot\;\, -apple-system\, BlinkMacSystemFont\, Roboto\, &quot\;Helvetica Neue&quot\;\, Helvetica\, Tahoma\, Arial\, sans-serif\; font-size: 16px\;">&nbsp\;&ndash\; Being a member of the&nbsp\;</span><span style="font-weight: 700\; box-sizing: border-box\; color: rgb(111\, 114\, 135)\; font-family: &quot\;Neue Plak&quot\;\, -apple-system\, BlinkMacSystemFont\, Roboto\, &quot\;Helvetica Neue&quot\;\, Helvetica\, Tahoma\, Arial\, sans-serif\; font-size: 16px\;">SLHBA</span><span style="color: rgb(111\, 114\, 135)\; font-family: &quot\;Neue Plak&quot\;\, -apple-system\, BlinkMacSystemFont\, Roboto\, &quot\;Helvetica Neue&quot\;\, Helvetica\, Tahoma\, Arial\, sans-serif\; font-size: 16px\;">&nbsp\;you receive your Continuing Education AT NO COST.</span><br />\n&nbsp\;
LOCATION:Salt Lake HBA 230 West Towne Ridge Parkway Sandy\, UT 84070
UID:e.9412.2016
SEQUENCE:3
DTSTAMP:20260422T174454Z
URL:http://members.saltlakeparade.com/events/details/business-owner-s-forum-2024-2016
END:VEVENT

END:VCALENDAR
