BEGIN:VCALENDAR
VERSION:2.0
PRODID:-//ChamberMaster//Event Calendar 2.0//EN
METHOD:PUBLISH
X-PUBLISHED-TTL:P3D
REFRESH-INTERVAL:P3D
CALSCALE:GREGORIAN
BEGIN:VEVENT
DTSTART:20250207T000000Z
DTEND:20250207T020000Z
X-MICROSOFT-CDO-ALLDAYEVENT:FALSE
SUMMARY:Builders & Brewers 2025
DESCRIPTION:Join Us for Our 2nd Annual Builders & Brewers!\n\nSavor the best of Salt Lake City with samples from the finest craft breweries\, local distilleries\, and artisanal sodas.\n\nThis one-of-a-kind event offers a fantastic opportunity to connect and network with fellow industry professionals in a relaxed and inviting atmosphere.\n\nEnjoy delicious appetizers as you sip\, socialize\, and strengthen relationships within the community.\n\nDon't miss out mark your calendar and join the fun!
X-ALT-DESC;FMTTYPE=text/html:<p><strong>Join Us for Our 2nd Annual Builders &amp\; Brewers!</strong></p>\n\n<p>Savor the best of Salt Lake City with samples from the finest <strong>craft breweries\, local distilleries\, and artisanal sodas.</strong></p>\n\n<p>This one-of-a-kind event offers a fantastic opportunity to connect and network with fellow industry professionals in a relaxed and inviting atmosphere.</p>\n\n<p><strong>Enjoy delicious appetizers</strong> as you sip\, socialize\, and strengthen relationships within the community.</p>\n\n<p>Don&rsquo\;t miss out&mdash\;mark your calendar and join the fun!</p>\n
LOCATION:Mountain Land Design
UID:e.9412.3772
SEQUENCE:3
DTSTAMP:20260423T091152Z
URL:http://members.saltlakeparade.com/events/details/builders-brewers-2025-3772
END:VEVENT

END:VCALENDAR
