BEGIN:VCALENDAR
VERSION:2.0
PRODID:-//ChamberMaster//Event Calendar 2.0//EN
METHOD:PUBLISH
X-PUBLISHED-TTL:P3D
REFRESH-INTERVAL:P3D
CALSCALE:GREGORIAN
BEGIN:VEVENT
DTSTART:20240530T230000Z
DTEND:20240531T010000Z
X-MICROSOFT-CDO-ALLDAYEVENT:FALSE
SUMMARY:Builders & Brewers 2024
DESCRIPTION:Join us for our first Builders & Brewers while sipping samples from Salt Lake's Finest Craft Breweries\, Local Distilleries\, Hard Cider\, Kombucha\, & Craft Sodas. \n\n\n\nAppetizers will be served!
X-ALT-DESC;FMTTYPE=text/html:Join us for our first Builders &amp\; Brewers while sipping samples from Salt Lake&#39\;s Finest Craft Breweries\, Local Distilleries\, Hard Cider\, Kombucha\, &amp\; Craft Sodas.&nbsp\;<br />\n<br />\nAppetizers will be served!
LOCATION:Mountain Land Design 2345 S Main St South Salt Lake\, UT
UID:e.9412.2021
SEQUENCE:3
DTSTAMP:20260422T193051Z
URL:http://members.saltlakeparade.com/events/details/builders-brewers-2024-2021
END:VEVENT

END:VCALENDAR
