BEGIN:VCALENDAR
VERSION:2.0
PRODID:-//ChamberMaster//Event Calendar 2.0//EN
METHOD:PUBLISH
X-PUBLISHED-TTL:P3D
REFRESH-INTERVAL:P3D
CALSCALE:GREGORIAN
BEGIN:VEVENT
DTSTART:20240325T150000Z
DTEND:20240325T160000Z
X-MICROSOFT-CDO-ALLDAYEVENT:FALSE
SUMMARY:Build PAC Meet and Greet
DESCRIPTION:Congressman Owens
X-ALT-DESC;FMTTYPE=text/html:Congressman Owens
LOCATION:Salt Lake Board of Realtors Snowbird Room - 1st floor 230 W Towne Ridge Pkwy Sandy\, UT 84070
UID:e.9412.2013
SEQUENCE:3
DTSTAMP:20260422T160934Z
URL:http://members.saltlakeparade.com/events/details/build-pac-meet-and-greet-2013
END:VEVENT

END:VCALENDAR
