BEGIN:VCALENDAR
VERSION:2.0
PRODID:-//ChamberMaster//Event Calendar 2.0//EN
METHOD:PUBLISH
X-PUBLISHED-TTL:P3D
REFRESH-INTERVAL:P3D
CALSCALE:GREGORIAN
BEGIN:VEVENT
DTSTART:20241003T180000Z
DTEND:20241003T190000Z
X-MICROSOFT-CDO-ALLDAYEVENT:FALSE
SUMMARY:Activities Committee Meeting
DESCRIPTION:Activities Committee-  Cassandra Nestoroff   \n\n(1st Thursday of every month)\n\nThis committee assists with the planning\, implementation and coordination of recreational activities for Association members and their families. These events often include golf tournaments\, family picnics\, and other types of membership events.
X-ALT-DESC;FMTTYPE=text/html:<span style="font-size:14px\;"><span style="font-family:arial\;"><strong><u>Activities Committee-&nbsp\;</u></strong><em>&nbsp\;Cassandra Nestoroff&nbsp\; &nbsp\;</em><br />\n<strong>(1<sup>st</sup>&nbsp\;Thursday of every month)</strong><br />\nThis committee assists with the planning\, implementation and coordination of recreational activities for Association members and their families. These events often include golf tournaments\, family picnics\, and other types of membership events.</span></span><br />\n&nbsp\;
LOCATION:Salt Lake Home Builders Association 230 W Towne Ridge Pkwy\, Ste 250 Sandy\, UT 84070
UID:e.9412.3731
SEQUENCE:3
DTSTAMP:20260423T024645Z
URL:http://members.saltlakeparade.com/events/details/activities-committee-meeting-10-03-2024-3731
END:VEVENT

END:VCALENDAR
